BEGIN:VCALENDAR
VERSION:2.0
PRODID:-//Ultima Online - ECPv5.16.4.1//NONSGML v1.0//EN
CALSCALE:GREGORIAN
METHOD:PUBLISH
X-WR-CALNAME:Ultima Online
X-ORIGINAL-URL:https://uo.com
X-WR-CALDESC:Events for Ultima Online
BEGIN:VTIMEZONE
TZID:America/Los_Angeles
BEGIN:DAYLIGHT
TZOFFSETFROM:-0800
TZOFFSETTO:-0700
TZNAME:PDT
DTSTART:20180311T100000
END:DAYLIGHT
BEGIN:STANDARD
TZOFFSETFROM:-0700
TZOFFSETTO:-0800
TZNAME:PST
DTSTART:20181104T090000
END:STANDARD
END:VTIMEZONE
BEGIN:VEVENT
DTSTART;TZID=America/Los_Angeles:20181104T180000
DTEND;TZID=America/Los_Angeles:20181104T193000
DTSTAMP:20260421T073157
CREATED:20181031T200256Z
LAST-MODIFIED:20181031T200256Z
UID:18124-1541354400-1541359800@uo.com
SUMMARY:Origin ~ Fireside Chat & Zig’s *Mini Monster Bash*!
DESCRIPTION:
URL:https://uo.com/event/origin-fireside-chat-zigs-mini-monster-bash-3/
LOCATION:Gates at W. Britain\, Haven & Luna Banks
CATEGORIES:EM Event
END:VEVENT
END:VCALENDAR