BEGIN:VCALENDAR
VERSION:2.0
PRODID:-//Ultima Online - ECPv5.16.4.1//NONSGML v1.0//EN
CALSCALE:GREGORIAN
METHOD:PUBLISH
X-WR-CALNAME:Ultima Online
X-ORIGINAL-URL:https://uo.com
X-WR-CALDESC:Events for Ultima Online
BEGIN:VTIMEZONE
TZID:America/Los_Angeles
BEGIN:DAYLIGHT
TZOFFSETFROM:-0800
TZOFFSETTO:-0700
TZNAME:PDT
DTSTART:20170312T100000
END:DAYLIGHT
BEGIN:STANDARD
TZOFFSETFROM:-0700
TZOFFSETTO:-0800
TZNAME:PST
DTSTART:20171105T090000
END:STANDARD
END:VTIMEZONE
BEGIN:VEVENT
DTSTART;TZID=America/Los_Angeles:20170825T190000
DTEND;TZID=America/Los_Angeles:20170825T200000
DTSTAMP:20260422T085000
CREATED:20170731T220831Z
LAST-MODIFIED:20170731T220831Z
UID:14376-1503687600-1503691200@uo.com
SUMMARY:Origin ~ Have Gear Will Travel #26: ‘Hangman's Island’ *Felucca*
DESCRIPTION:
URL:https://uo.com/event/origin-have-gear-will-travel-26-hangmans-island-felucca/
CATEGORIES:EM Event
END:VEVENT
END:VCALENDAR