BEGIN:VCALENDAR
VERSION:2.0
PRODID:-//Ultima Online - ECPv5.16.4.1//NONSGML v1.0//EN
CALSCALE:GREGORIAN
METHOD:PUBLISH
X-WR-CALNAME:Ultima Online
X-ORIGINAL-URL:https://uo.com
X-WR-CALDESC:Events for Ultima Online
BEGIN:VTIMEZONE
TZID:America/Los_Angeles
BEGIN:DAYLIGHT
TZOFFSETFROM:-0800
TZOFFSETTO:-0700
TZNAME:PDT
DTSTART:20170312T100000
END:DAYLIGHT
BEGIN:STANDARD
TZOFFSETFROM:-0700
TZOFFSETTO:-0800
TZNAME:PST
DTSTART:20171105T090000
END:STANDARD
END:VTIMEZONE
BEGIN:VEVENT
DTSTART;TZID=America/Los_Angeles:20171129T190000
DTEND;TZID=America/Los_Angeles:20171129T200000
DTSTAMP:20260422T020140
CREATED:20171112T031644Z
LAST-MODIFIED:20171112T031644Z
UID:15241-1511982000-1511985600@uo.com
SUMMARY:*Pacific* Kings Meeting
DESCRIPTION:
URL:https://uo.com/event/pacific-kings-meeting-16/
LOCATION:Castle Blackthorn Governors Hall
CATEGORIES:EM Event
END:VEVENT
END:VCALENDAR