BEGIN:VCALENDAR
VERSION:2.0
PRODID:-//Ultima Online - ECPv5.16.4.1//NONSGML v1.0//EN
CALSCALE:GREGORIAN
METHOD:PUBLISH
X-WR-CALNAME:Ultima Online
X-ORIGINAL-URL:https://uo.com
X-WR-CALDESC:Events for Ultima Online
BEGIN:VTIMEZONE
TZID:America/New_York
BEGIN:DAYLIGHT
TZOFFSETFROM:-0500
TZOFFSETTO:-0400
TZNAME:EDT
DTSTART:20250309T070000
END:DAYLIGHT
BEGIN:STANDARD
TZOFFSETFROM:-0400
TZOFFSETTO:-0500
TZNAME:EST
DTSTART:20251102T060000
END:STANDARD
END:VTIMEZONE
BEGIN:VEVENT
DTSTART;TZID=America/New_York:20250920T210000
DTEND;TZID=America/New_York:20250920T220000
DTSTAMP:20260421T055138
CREATED:20250918T023401Z
LAST-MODIFIED:20250918T192427Z
UID:35796-1758402000-1758405600@uo.com
SUMMARY:Chesapeake - PIZZA PARTY!!
DESCRIPTION:It’s national pepperoni pizza day. What better way to celebrate than with some pizza\, brews\, and maybe a little death? Gates will be provided at Brit and Luna banks.
URL:https://uo.com/event/pizza-party/
CATEGORIES:EM Event
END:VEVENT
END:VCALENDAR