BEGIN:VCALENDAR
VERSION:2.0
PRODID:-//Ultima Online - ECPv5.16.4.1//NONSGML v1.0//EN
CALSCALE:GREGORIAN
METHOD:PUBLISH
X-WR-CALNAME:Ultima Online
X-ORIGINAL-URL:https://uo.com
X-WR-CALDESC:Events for Ultima Online
BEGIN:VTIMEZONE
TZID:Asia/Tokyo
BEGIN:STANDARD
TZOFFSETFROM:+0900
TZOFFSETTO:+0900
TZNAME:JST
DTSTART:20220101T000000
END:STANDARD
END:VTIMEZONE
BEGIN:VEVENT
DTSTART;TZID=Asia/Tokyo:20220212T220000
DTEND;TZID=Asia/Tokyo:20220212T220000
DTSTAMP:20260425T182424
CREATED:20220210T002800Z
LAST-MODIFIED:20220210T002800Z
UID:26928-1644703200-1644703200@uo.com
SUMMARY:Sakura Mini Event
DESCRIPTION:TBD\nRelated to Valentine’s Day
URL:https://uo.com/event/sakura-mini-event-44/
LOCATION:TBD
CATEGORIES:EM Event
END:VEVENT
END:VCALENDAR