BEGIN:VCALENDAR
VERSION:2.0
PRODID:-//Ultima Online - ECPv5.16.4.1//NONSGML v1.0//EN
CALSCALE:GREGORIAN
METHOD:PUBLISH
X-WR-CALNAME:Ultima Online
X-ORIGINAL-URL:https://uo.com
X-WR-CALDESC:Events for Ultima Online
BEGIN:VTIMEZONE
TZID:America/New_York
BEGIN:DAYLIGHT
TZOFFSETFROM:-0500
TZOFFSETTO:-0400
TZNAME:EDT
DTSTART:20180311T070000
END:DAYLIGHT
BEGIN:STANDARD
TZOFFSETFROM:-0400
TZOFFSETTO:-0500
TZNAME:EST
DTSTART:20181104T060000
END:STANDARD
END:VTIMEZONE
BEGIN:VEVENT
DTSTART;TZID=America/New_York:20180908T170000
DTEND;TZID=America/New_York:20180908T190000
DTSTAMP:20260421T103020
CREATED:20180901T190441Z
LAST-MODIFIED:20180901T190441Z
UID:17503-1536426000-1536433200@uo.com
SUMMARY:Siege - Hunting Night
DESCRIPTION:Our lands are home to all sorts of horrible monsters. Take a look. \n \nJust begging for it\, aren’t they? Well\, you’re just the adventurers to give it to them! We’ll gather at the EM hall\, ready for battle! If you would like to help by donating some keys to the Peerless\, please drop them into the mailbox! If not – well\, there are always champ spawns and other monsters we can go and pick on. I mean\, slay. After all\, they deserve it.
URL:https://uo.com/event/siege-hunting-night/
LOCATION:Siege Perilous
CATEGORIES:EM Event
END:VEVENT
END:VCALENDAR