BEGIN:VCALENDAR
VERSION:2.0
PRODID:-//Ultima Online - ECPv5.16.4.1//NONSGML v1.0//EN
CALSCALE:GREGORIAN
METHOD:PUBLISH
X-WR-CALNAME:Ultima Online
X-ORIGINAL-URL:https://uo.com
X-WR-CALDESC:Events for Ultima Online
BEGIN:VTIMEZONE
TZID:America/New_York
BEGIN:DAYLIGHT
TZOFFSETFROM:-0500
TZOFFSETTO:-0400
TZNAME:EDT
DTSTART:20230312T070000
END:DAYLIGHT
BEGIN:STANDARD
TZOFFSETFROM:-0400
TZOFFSETTO:-0500
TZNAME:EST
DTSTART:20231105T060000
END:STANDARD
END:VTIMEZONE
BEGIN:VEVENT
DTSTART;TZID=America/New_York:20230121T170000
DTEND;TZID=America/New_York:20230121T180000
DTSTAMP:20260423T113902
CREATED:20230106T210711Z
LAST-MODIFIED:20230106T210711Z
UID:28905-1674320400-1674324000@uo.com
SUMMARY:Siege Perilous - 2023 Fashion Show
DESCRIPTION:A new year\, a new wave of fashions! \nBring your finest gear\, show it off to the maddened crowd\, and try not to get looted! The crowd will vote on the following categories: \n\nOverall best dressed male and female in their race. *see below\nBest looking combat gear. Note: This is based on appearance\, not on stats\, so as to be fair to any newer/financially challenged citizens.\nMost practical work gear. This is aimed at crafters\, resource gatherers\, and shop keepers. Be prepared to demonstrate or describe WHY your outfit should be worn by everyone in your line of work!\nBest disguise.\n\nThe competition will be held at the EM Hall\, which IS within a guard zone. However\, this is Siege Perilous\, and there are ways to avoid getting guard-whacked. Competitors and audience are asked not to bring anything that they could not stand to lose\, or at least to buy back. Resident villains are asked to put their best shopkeeper’s hat on\, and be prepared to sell anything looted during the event back to its owners. Thank you. The organisers will remain neutral. \n 
URL:https://uo.com/event/siege-perilous-2023-fashion-show/
LOCATION:Siege Perilous
CATEGORIES:EM Event
END:VEVENT
END:VCALENDAR