BEGIN:VCALENDAR
VERSION:2.0
PRODID:-//Ultima Online - ECPv5.16.4.1//NONSGML v1.0//EN
CALSCALE:GREGORIAN
METHOD:PUBLISH
X-WR-CALNAME:Ultima Online
X-ORIGINAL-URL:https://uo.com
X-WR-CALDESC:Events for Ultima Online
BEGIN:VTIMEZONE
TZID:America/New_York
BEGIN:DAYLIGHT
TZOFFSETFROM:-0500
TZOFFSETTO:-0400
TZNAME:EDT
DTSTART:20240310T070000
END:DAYLIGHT
BEGIN:STANDARD
TZOFFSETFROM:-0400
TZOFFSETTO:-0500
TZNAME:EST
DTSTART:20241103T060000
END:STANDARD
END:VTIMEZONE
BEGIN:VEVENT
DTSTART;TZID=America/New_York:20241019T170000
DTEND;TZID=America/New_York:20241019T180000
DTSTAMP:20260423T212155
CREATED:20241005T210706Z
LAST-MODIFIED:20241005T210706Z
UID:32807-1729357200-1729360800@uo.com
SUMMARY:Siege Perilous : Aggression in Athenaeum
DESCRIPTION:You’ve all heard of the Defiler. You fought him\, and scattered his bones to the four winds\, several years ago. \nWell\, one of two things has happened: \nEither he’s gained access to a resurrection scroll\, or some fool is impersonating him. Our scouts suggest the latter\, but you can never be too careful when dealing with daemons. \nHordes of creatures have sprung forth\, chanting his name. Bring your best skull-crushing mace.
URL:https://uo.com/event/siege-perilous-aggression-in-athenaeum/
LOCATION:Siege Perilous
CATEGORIES:EM Event
END:VEVENT
END:VCALENDAR