BEGIN:VCALENDAR
VERSION:2.0
PRODID:-//Ultima Online - ECPv5.16.4.1//NONSGML v1.0//EN
CALSCALE:GREGORIAN
METHOD:PUBLISH
X-WR-CALNAME:Ultima Online
X-ORIGINAL-URL:https://uo.com
X-WR-CALDESC:Events for Ultima Online
BEGIN:VTIMEZONE
TZID:America/New_York
BEGIN:DAYLIGHT
TZOFFSETFROM:-0500
TZOFFSETTO:-0400
TZNAME:EDT
DTSTART:20240310T070000
END:DAYLIGHT
BEGIN:STANDARD
TZOFFSETFROM:-0400
TZOFFSETTO:-0500
TZNAME:EST
DTSTART:20241103T060000
END:STANDARD
END:VTIMEZONE
BEGIN:VEVENT
DTSTART;TZID=America/New_York:20240608T170000
DTEND;TZID=America/New_York:20240608T180000
DTSTAMP:20260425T180546
CREATED:20240608T152020Z
LAST-MODIFIED:20240608T152020Z
UID:32023-1717866000-1717869600@uo.com
SUMMARY:Siege Perilous : Another hat trick
DESCRIPTION:A repeat of last month’s assault on the plundering pirates. \nRemember\, our seas are not peaceful\, and you might be plundered yourself. \nThe only thing we know for sure is SOMEONE will be richer at the end of the evening – whether it’s you\, the pirates\, or roaving PKs\, remains to be seen!
URL:https://uo.com/event/siege-perilous-another-hat-trick/
LOCATION:Siege Perilous
CATEGORIES:EM Event
END:VEVENT
END:VCALENDAR