BEGIN:VCALENDAR
VERSION:2.0
PRODID:-//Ultima Online - ECPv5.16.4.1//NONSGML v1.0//EN
CALSCALE:GREGORIAN
METHOD:PUBLISH
X-WR-CALNAME:Ultima Online
X-ORIGINAL-URL:https://uo.com
X-WR-CALDESC:Events for Ultima Online
BEGIN:VTIMEZONE
TZID:America/New_York
BEGIN:DAYLIGHT
TZOFFSETFROM:-0500
TZOFFSETTO:-0400
TZNAME:EDT
DTSTART:20170312T070000
END:DAYLIGHT
BEGIN:STANDARD
TZOFFSETFROM:-0400
TZOFFSETTO:-0500
TZNAME:EST
DTSTART:20171105T060000
END:STANDARD
END:VTIMEZONE
BEGIN:VEVENT
DTSTART;TZID=America/New_York:20170812T170000
DTEND;TZID=America/New_York:20170812T190000
DTSTAMP:20260422T084222
CREATED:20170803T182540Z
LAST-MODIFIED:20170803T182540Z
UID:14416-1502557200-1502564400@uo.com
SUMMARY:Siege Perilous - Confrontation!
DESCRIPTION:A hush fell over the hatchery\, as the last minion’s corpse yielded no more treasure. The adventurers looked around\, expecting another attack. But none came. A master of beasts applied a magical bandage to her dragon\, while nearby\, a mage cast healing spells on his friends. The huge\, blue-hued bodies of the architects lay around the room\, flickers of vile\, stolen soul energy wafting upwards from their grotesque forms. \nAs one\, the group moved towards the teleporter that would lead them back to the Black Watch’s barracks. Still\, no attack came. No ambush. Just an unearthly silence\, broken only by the sound of their boots marching back home. But why did this not feel like a victory? \n“It’s not dead\, you know” said a tall elf. “It’ll come for us again.” \nA tinker-mage nodded\, tossing trap after trap into the debris. “Let it.” he said. “It’ll regret it.” \nThe huge\, blood-stained telescope turned slightly\, silently\, unnoticed by the departing party. A massive eye opened\, and gazed through the portal that hung before the telescope. \n“I began with no army. I rose to power with no army. I consumed whole worlds without an army. And yet you – you pathetic Britannians – you think me beaten? Your souls will be my food\, and your soulless forms will serve me. You think you have won? Your hope is a tiny thing\, without power\, lacking imagination\, and devoid of intellect. I will devour it in less time than it takes to measure how exceptionally small and worthless you all are” \nA huge\, inhuman form began to move across the ruins of the hatchery\, soulfire rising from every corpse and flowing towards it\, as the Soulstealer arose\, turned in the direction the party had gone\, raised huge claws towards the roof\, and began to chant in words not heard before the world was born… \n \n  \n  \nWhat you need to know \nNothing. You’re all doomed. Give up now. Hide under your beds\, for all the good that will do you. \nWhat? Still here? Oh\, all right then… \n\nGates will appear at the usual locations.\nAnnouncements will be made an hour before the event starts\nThe event will take place outside of a guard zone. Don’t let that stop you.\nThis will be an extremely tough encounter. Don’t let that stop you either.\nThis battle will probably go on for a long time. Speak to a cook who owns a coffee plant or two.\nYou don’t want to miss this one.
URL:https://uo.com/event/siege-perilous-confrontation/
LOCATION:Siege Perilous
CATEGORIES:EM Event
END:VEVENT
END:VCALENDAR