BEGIN:VCALENDAR
VERSION:2.0
PRODID:-//Ultima Online - ECPv5.16.4.1//NONSGML v1.0//EN
CALSCALE:GREGORIAN
METHOD:PUBLISH
X-WR-CALNAME:Ultima Online
X-ORIGINAL-URL:https://uo.com
X-WR-CALDESC:Events for Ultima Online
BEGIN:VTIMEZONE
TZID:America/New_York
BEGIN:DAYLIGHT
TZOFFSETFROM:-0500
TZOFFSETTO:-0400
TZNAME:EDT
DTSTART:20250309T070000
END:DAYLIGHT
BEGIN:STANDARD
TZOFFSETFROM:-0400
TZOFFSETTO:-0500
TZNAME:EST
DTSTART:20251102T060000
END:STANDARD
END:VTIMEZONE
BEGIN:VEVENT
DTSTART;TZID=America/New_York:20251220T170000
DTEND;TZID=America/New_York:20251220T180000
DTSTAMP:20260421T040720
CREATED:20251213T165535Z
LAST-MODIFIED:20251213T165535Z
UID:36385-1766250000-1766253600@uo.com
SUMMARY:Siege Perilous - Elf & Safety?
DESCRIPTION:N’Xyldar is comming… \n \n\n\nN’ — an ancient Sosarian negation rune \n\n\nXyl — root meaning “festive / evergreen” \n\n\ndar — “to consume / to snuff out” \n\n\n“He Who Devours the Yule.” \nLong before Britannia knew tinsel or hot cocoa\, a being of pure winter malice roamed the frozen void between shards.He is not a demon.He is not a daemonic lord.He is not even mortal enough to be classified. \nHe is N’Xyldar — the shadow that forms behind the candle flame. \nWhen joy grows warm\, he grows hungry. \nWhen families gather\, he tastes the sorrow beneath. \nWhen bards carol\, he steals the final notes to weave into his Dirge of Unmaking. \nHe is the anti-spirit of Christmas:the cold that seeps under the door even when the hearth is blazing.
URL:https://uo.com/event/siege-perilous-elf-safety/
LOCATION:Siege Perilous
CATEGORIES:EM Event
END:VEVENT
END:VCALENDAR