BEGIN:VCALENDAR
VERSION:2.0
PRODID:-//Ultima Online - ECPv5.16.4.1//NONSGML v1.0//EN
CALSCALE:GREGORIAN
METHOD:PUBLISH
X-WR-CALNAME:Ultima Online
X-ORIGINAL-URL:https://uo.com
X-WR-CALDESC:Events for Ultima Online
BEGIN:VTIMEZONE
TZID:America/New_York
BEGIN:DAYLIGHT
TZOFFSETFROM:-0500
TZOFFSETTO:-0400
TZNAME:EDT
DTSTART:20220313T070000
END:DAYLIGHT
BEGIN:STANDARD
TZOFFSETFROM:-0400
TZOFFSETTO:-0500
TZNAME:EST
DTSTART:20221106T060000
END:STANDARD
END:VTIMEZONE
BEGIN:VEVENT
DTSTART;TZID=America/New_York:20220611T170000
DTEND;TZID=America/New_York:20220611T180000
DTSTAMP:20260424T233127
CREATED:20220604T173423Z
LAST-MODIFIED:20220604T173423Z
UID:27675-1654966800-1654970400@uo.com
SUMMARY:Siege Perilous - Scavenger Hunt
DESCRIPTION:Around the land\, you will find a number of strange people and beings\, offering clues in exchange for certain treasures. \nWrite all the clues in a book\, and bring the book to the EM Hall before the end of the event. \nThe winner will have their name inscribed on a life-size ratman statue at the reward hall for all to see! So\, if you’ve ever wanted your name on a rat\, here’s your chance! \n 
URL:https://uo.com/event/siege-perilous-scavenger-hunt-2/
LOCATION:Siege Perilous
CATEGORIES:EM Event
END:VEVENT
END:VCALENDAR