BEGIN:VCALENDAR
VERSION:2.0
PRODID:-//Ultima Online - ECPv5.16.4.1//NONSGML v1.0//EN
CALSCALE:GREGORIAN
METHOD:PUBLISH
X-WR-CALNAME:Ultima Online
X-ORIGINAL-URL:https://uo.com
X-WR-CALDESC:Events for Ultima Online
BEGIN:VTIMEZONE
TZID:Europe/London
BEGIN:DAYLIGHT
TZOFFSETFROM:+0000
TZOFFSETTO:+0100
TZNAME:BST
DTSTART:20170326T010000
END:DAYLIGHT
BEGIN:STANDARD
TZOFFSETFROM:+0100
TZOFFSETTO:+0000
TZNAME:GMT
DTSTART:20171029T010000
END:STANDARD
END:VTIMEZONE
BEGIN:VEVENT
DTSTART;TZID=Europe/London:20171021T220000
DTEND;TZID=Europe/London:20171021T230000
DTSTAMP:20260422T072932
CREATED:20171005T173052Z
LAST-MODIFIED:20171005T173052Z
UID:14988-1508623200-1508626800@uo.com
SUMMARY:Siege Perilous - Siege Council Meeting
DESCRIPTION:Saturday 21st October at 5 pm EST \n \n  \n  \n  \n  \n  \n  \n  \nWhat you need to know \n\nAll are welcome.\nThe King does not appreciate disruptions. A dip in the moat awaits brawlers\, thieves\, and scoundrels.\nThis is a roleplay event.
URL:https://uo.com/event/siege-perilous-siege-council-meeting-4/
LOCATION:Siege Perilous
CATEGORIES:EM Event
END:VEVENT
END:VCALENDAR