BEGIN:VCALENDAR
VERSION:2.0
PRODID:-//Ultima Online - ECPv5.16.4.1//NONSGML v1.0//EN
CALSCALE:GREGORIAN
METHOD:PUBLISH
X-WR-CALNAME:Ultima Online
X-ORIGINAL-URL:https://uo.com
X-WR-CALDESC:Events for Ultima Online
BEGIN:VTIMEZONE
TZID:America/New_York
BEGIN:DAYLIGHT
TZOFFSETFROM:-0500
TZOFFSETTO:-0400
TZNAME:EDT
DTSTART:20230312T070000
END:DAYLIGHT
BEGIN:STANDARD
TZOFFSETFROM:-0400
TZOFFSETTO:-0500
TZNAME:EST
DTSTART:20231105T060000
END:STANDARD
END:VTIMEZONE
BEGIN:VEVENT
DTSTART;TZID=America/New_York:20230429T170000
DTEND;TZID=America/New_York:20230429T180000
DTSTAMP:20260422T160232
CREATED:20230408T164430Z
LAST-MODIFIED:20230408T164430Z
UID:29570-1682787600-1682791200@uo.com
SUMMARY:Siege Perilous : The Ice Lich Saga\, Chapter IV
DESCRIPTION:The Ice Lich smiled\, and wished he hadn’t. It’s not easy smiling with a several-hundred-year-old face\, and chapped lips. \nBut\, he did have good cause. His minions had worked hard and well\, building the engine that would reach beneath the earth\, and bring forth all that glorious heat. Ice Dungeon would soon need a new name… \n 
URL:https://uo.com/event/siege-perilous-the-ice-lich-saga-chapter-iv/
LOCATION:Siege Perilous
CATEGORIES:EM Event
END:VEVENT
END:VCALENDAR