BEGIN:VCALENDAR
VERSION:2.0
PRODID:-//Ultima Online - ECPv5.16.4.1//NONSGML v1.0//EN
CALSCALE:GREGORIAN
METHOD:PUBLISH
X-WR-CALNAME:Ultima Online
X-ORIGINAL-URL:https://uo.com
X-WR-CALDESC:Events for Ultima Online
BEGIN:VTIMEZONE
TZID:America/New_York
BEGIN:DAYLIGHT
TZOFFSETFROM:-0500
TZOFFSETTO:-0400
TZNAME:EDT
DTSTART:20240310T070000
END:DAYLIGHT
BEGIN:STANDARD
TZOFFSETFROM:-0400
TZOFFSETTO:-0500
TZNAME:EST
DTSTART:20241103T060000
END:STANDARD
END:VTIMEZONE
BEGIN:VEVENT
DTSTART;TZID=America/New_York:20240525T173000
DTEND;TZID=America/New_York:20240525T180000
DTSTAMP:20260426T001818
CREATED:20240511T184939Z
LAST-MODIFIED:20240511T184939Z
UID:31884-1716658200-1716660000@uo.com
SUMMARY:Siege Perilous : The Problem With Princesses\, Part 3
DESCRIPTION:You’ll never guess what’s happened. </sarcasm> \nGo on. Guess. Yep. You’ve got it. \nThe Gargoyle Queen’s daughter has been kidnapped again. \nThis time\, the only clues are a trail of slime\, several dents in the floor where an obviously overweight villain has loitered\, and a small statue of a putrifier. \n*sigh* \nGather at the EM Hall for another round of returning the wayward “victim” to the Gargoyle Queen. I’m starting to suspect this is some strange type of dating service\, but I could be wrong. \n 
URL:https://uo.com/event/siege-perilous-the-problem-with-princesses-part-3/
LOCATION:Siege Perilous
CATEGORIES:EM Event
END:VEVENT
END:VCALENDAR