BEGIN:VCALENDAR
VERSION:2.0
PRODID:-//Ultima Online - ECPv5.16.4.1//NONSGML v1.0//EN
CALSCALE:GREGORIAN
METHOD:PUBLISH
X-WR-CALNAME:Ultima Online
X-ORIGINAL-URL:https://uo.com
X-WR-CALDESC:Events for Ultima Online
BEGIN:VTIMEZONE
TZID:America/New_York
BEGIN:DAYLIGHT
TZOFFSETFROM:-0500
TZOFFSETTO:-0400
TZNAME:EDT
DTSTART:20220313T070000
END:DAYLIGHT
BEGIN:STANDARD
TZOFFSETFROM:-0400
TZOFFSETTO:-0500
TZNAME:EST
DTSTART:20221106T060000
END:STANDARD
END:VTIMEZONE
BEGIN:VEVENT
DTSTART;TZID=America/New_York:20221112T170000
DTEND;TZID=America/New_York:20221112T180000
DTSTAMP:20260423T183424
CREATED:20221112T170029Z
LAST-MODIFIED:20221112T170029Z
UID:28597-1668272400-1668276000@uo.com
SUMMARY:Siege Perilous - The Tamer's Apprentice
DESCRIPTION:And lo\, it came to pass that a young tamer\, new to his studies of the beasts of the realm\, grew impatient\, as the young do. \nAfter failing to tame a rabbit for the 47th time\, he went to his wealthy elderly uncle\, and convinced him to part with a substantial sum of gold. With this gold\, he approached a travelling hunter\, who had a caravan of wagons with cages on them\, and bought many of his strange creatures. \nBeing weak of mind\, and bereft of brain\, the apprentice began to command the creatures. They stood and stared at him\, trying to grasp why they were no longer caged\, and the reason why this human was suddenly shouting at them. \nHe could run. Oh\, he could run. Never did you see an apprentice achieve such sudden speed! All for naught\, however\, and he was soon being kept by one of the beasts as its pet\, and trained to fetch\, sit\, and roll over for its amusement. \nBut what of the rest of the now-freed creatures\, who roam the wilds of Britannia? Ah\, that is for you to find out…   good hunting! \n \n  \n  \n  \n  \n  \n  \nThis is a simple “search and destroy” event. Many of the creatures will be paragons\, and creatures that are not usually seen as paragons. This COULD mean a rare chest… or not.  Either way\, enjoy some hunting. The creatures will spawn in the wild\, and in dungeons\, around the land\, and will be clearly labeled as “escaped [creature name]”.
URL:https://uo.com/event/siege-perilous-the-tamers-apprentice/
LOCATION:Siege Perilous
CATEGORIES:EM Event
END:VEVENT
END:VCALENDAR