BEGIN:VCALENDAR
VERSION:2.0
PRODID:-//Ultima Online - ECPv5.16.4.1//NONSGML v1.0//EN
CALSCALE:GREGORIAN
METHOD:PUBLISH
X-WR-CALNAME:Ultima Online
X-ORIGINAL-URL:https://uo.com
X-WR-CALDESC:Events for Ultima Online
BEGIN:VTIMEZONE
TZID:America/New_York
BEGIN:DAYLIGHT
TZOFFSETFROM:-0500
TZOFFSETTO:-0400
TZNAME:EDT
DTSTART:20200308T070000
END:DAYLIGHT
BEGIN:STANDARD
TZOFFSETFROM:-0400
TZOFFSETTO:-0500
TZNAME:EST
DTSTART:20201101T060000
END:STANDARD
END:VTIMEZONE
BEGIN:VEVENT
DTSTART;TZID=America/New_York:20200620T170000
DTEND;TZID=America/New_York:20200620T180000
DTSTAMP:20260422T114427
CREATED:20200609T094757Z
LAST-MODIFIED:20200609T094757Z
UID:22588-1592672400-1592676000@uo.com
SUMMARY:Siege - The Black Watch returns
DESCRIPTION:You may have noticed an absence of the Black Watch in recent months. Now\, the reason can be revealed. No\, it’s not because the Commander forgot about them. There\, there\, Commander – remember to take your pills… there we go… *ahem* \nNo\, the vile necromancer who has been tormenting you lately\, and providing some of you with an interesting suit of bone\, had put a curse on them\, blotting them from everyone’s memory.  But\, no more! \nThis week\, we will begin to re-instate the Black Watch. We will discuss missions that you would like to go on. We will probably have cake and ale. And\, measures will be put in place to ensure that everyone knows where they stand\, sit\, or stare forlornly at their latest death robe. \nWith some luck\, a town will be invaded in the middle of all this\, and we can join in with that\, too. See you there!
URL:https://uo.com/event/siege-the-black-watch-returns/
END:VEVENT
END:VCALENDAR