BEGIN:VCALENDAR
VERSION:2.0
PRODID:-//Ultima Online - ECPv5.16.4.1//NONSGML v1.0//EN
CALSCALE:GREGORIAN
METHOD:PUBLISH
X-WR-CALNAME:Ultima Online
X-ORIGINAL-URL:https://uo.com
X-WR-CALDESC:Events for Ultima Online
BEGIN:VTIMEZONE
TZID:America/New_York
BEGIN:DAYLIGHT
TZOFFSETFROM:-0500
TZOFFSETTO:-0400
TZNAME:EDT
DTSTART:20180311T070000
END:DAYLIGHT
BEGIN:STANDARD
TZOFFSETFROM:-0400
TZOFFSETTO:-0500
TZNAME:EST
DTSTART:20181104T060000
END:STANDARD
END:VTIMEZONE
BEGIN:VEVENT
DTSTART;TZID=America/New_York:20180907T220000
DTEND;TZID=America/New_York:20180907T230000
DTSTAMP:20260421T120446
CREATED:20180906T154021Z
LAST-MODIFIED:20180906T154026Z
UID:17561-1536357600-1536361200@uo.com
SUMMARY:Sonoma - A Miners Dilemma Event Part 2
DESCRIPTION:Join us for the conclusion of A Miners Dilemma! Help Save Minoc from the unearthed Elementals! Event starts at 7PM PDT!
URL:https://uo.com/event/sonoma-a-miners-dilemma-event-part-2/
LOCATION:Sonoma
CATEGORIES:EM Event
END:VEVENT
END:VCALENDAR