BEGIN:VCALENDAR
VERSION:2.0
PRODID:-//Ultima Online - ECPv5.16.4.1//NONSGML v1.0//EN
CALSCALE:GREGORIAN
METHOD:PUBLISH
X-WR-CALNAME:Ultima Online
X-ORIGINAL-URL:https://uo.com
X-WR-CALDESC:Events for Ultima Online
BEGIN:VTIMEZONE
TZID:America/New_York
BEGIN:DAYLIGHT
TZOFFSETFROM:-0500
TZOFFSETTO:-0400
TZNAME:EDT
DTSTART:20180311T070000
END:DAYLIGHT
BEGIN:STANDARD
TZOFFSETFROM:-0400
TZOFFSETTO:-0500
TZNAME:EST
DTSTART:20181104T060000
END:STANDARD
END:VTIMEZONE
BEGIN:VEVENT
DTSTART;TZID=America/New_York:20181121T220000
DTEND;TZID=America/New_York:20181121T230000
DTSTAMP:20260421T085736
CREATED:20181121T091656Z
LAST-MODIFIED:20181121T091711Z
UID:18408-1542837600-1542841200@uo.com
SUMMARY:Sonoma - Thanksgiving Event Part 1
DESCRIPTION:Join us for a Scavanger Hunt @ 7PM PST!
URL:https://uo.com/event/sonoma-thanksgiving-event-part-1/
LOCATION:Sonoma
END:VEVENT
END:VCALENDAR