BEGIN:VCALENDAR
VERSION:2.0
PRODID:-//Ultima Online - ECPv5.16.4.1//NONSGML v1.0//EN
CALSCALE:GREGORIAN
METHOD:PUBLISH
X-WR-CALNAME:Ultima Online
X-ORIGINAL-URL:https://uo.com
X-WR-CALDESC:Events for Ultima Online
BEGIN:VTIMEZONE
TZID:America/New_York
BEGIN:DAYLIGHT
TZOFFSETFROM:-0500
TZOFFSETTO:-0400
TZNAME:EDT
DTSTART:20170312T070000
END:DAYLIGHT
BEGIN:STANDARD
TZOFFSETFROM:-0400
TZOFFSETTO:-0500
TZNAME:EST
DTSTART:20171105T060000
END:STANDARD
END:VTIMEZONE
BEGIN:VEVENT
DTSTART;TZID=America/New_York:20170825T170000
DTEND;TZID=America/New_York:20170825T180000
DTSTAMP:20260422T084842
CREATED:20170803T193811Z
LAST-MODIFIED:20170803T193838Z
UID:14424-1503680400-1503684000@uo.com
SUMMARY:Siege Perilous - The Haunting of Skara Brae
DESCRIPTION:  \n  \n  \n  \n  \n  \n  \n  \n  \n  \nDetails to be announced. Watch this space!
URL:https://uo.com/event/the-haunting-of-skara-brae/
LOCATION:Siege Perilous
CATEGORIES:Developer Event,EM Event
END:VEVENT
END:VCALENDAR