BEGIN:VCALENDAR
VERSION:2.0
PRODID:-//Ultima Online - ECPv5.16.4.1//NONSGML v1.0//EN
CALSCALE:GREGORIAN
METHOD:PUBLISH
X-WR-CALNAME:Ultima Online
X-ORIGINAL-URL:https://uo.com
X-WR-CALDESC:Events for Ultima Online
BEGIN:VTIMEZONE
TZID:Europe/Berlin
BEGIN:DAYLIGHT
TZOFFSETFROM:+0100
TZOFFSETTO:+0200
TZNAME:CEST
DTSTART:20170326T010000
END:DAYLIGHT
BEGIN:STANDARD
TZOFFSETFROM:+0200
TZOFFSETTO:+0100
TZNAME:CET
DTSTART:20171029T010000
END:STANDARD
END:VTIMEZONE
BEGIN:VEVENT
DTSTART;TZID=Europe/Berlin:20170322T203000
DTEND;TZID=Europe/Berlin:20170322T213000
DTSTAMP:20260422T163901
CREATED:20170301T215246Z
LAST-MODIFIED:20170301T215246Z
UID:13104-1490214600-1490218200@uo.com
SUMMARY:Drachenfels: The Spring Thing | Das Frühlings Ding
DESCRIPTION:Time: 8:30pm CET (UTC+1).  Location: Counselor’s Hall\, Britain\, Trammel.\nMain Event: At the castle\, the rumour of this Spring Thing is getting around… Lieutenant Gelbendil and crew need help to solve that mystery as soon as possible! \nZeit: 20:30 Uhr CET (UTC+1). Ort: Counselor’s Hall\, Britain\, Trammel.\nHauptevent: Im Schloss macht die Geschichte des Frühlings Ding die Runde… Lieutenant Gelbendil und seine Crew brauchen Hilfe um dieses Rätsel so bald wie möglich zu lösen!
URL:https://uo.com/event/the-spring-thing-das-fruhlings-ding/
LOCATION:Drachenfels
CATEGORIES:EM Event
END:VEVENT
END:VCALENDAR