BEGIN:VCALENDAR
VERSION:2.0
PRODID:-//Ultima Online - ECPv5.16.4.1//NONSGML v1.0//EN
CALSCALE:GREGORIAN
METHOD:PUBLISH
X-WR-CALNAME:Ultima Online
X-ORIGINAL-URL:https://uo.com
X-WR-CALDESC:Events for Ultima Online
BEGIN:VTIMEZONE
TZID:Asia/Tokyo
BEGIN:STANDARD
TZOFFSETFROM:+0900
TZOFFSETTO:+0900
TZNAME:JST
DTSTART:20230101T000000
END:STANDARD
END:VTIMEZONE
BEGIN:VEVENT
DTSTART;TZID=Asia/Tokyo:20230128T213000
DTEND;TZID=Asia/Tokyo:20230128T223000
DTSTAMP:20260423T084011
CREATED:20221208T134928Z
LAST-MODIFIED:20230112T111608Z
UID:28723-1674941400-1674945000@uo.com
SUMMARY:Wakoku - Event
DESCRIPTION:Chat: Wakoku EM Event\nMeeting place: Britain Square
URL:https://uo.com/event/wakoku-event-32/
CATEGORIES:EM Event
END:VEVENT
END:VCALENDAR