BEGIN:VCALENDAR
VERSION:2.0
PRODID:-//Ultima Online - ECPv5.16.4.1//NONSGML v1.0//EN
CALSCALE:GREGORIAN
METHOD:PUBLISH
X-WR-CALNAME:Ultima Online
X-ORIGINAL-URL:https://uo.com
X-WR-CALDESC:Events for Ultima Online
BEGIN:VTIMEZONE
TZID:Asia/Tokyo
BEGIN:STANDARD
TZOFFSETFROM:+0900
TZOFFSETTO:+0900
TZNAME:JST
DTSTART:20190101T000000
END:STANDARD
END:VTIMEZONE
BEGIN:VEVENT
DTSTART;TZID=Asia/Tokyo:20190127T220000
DTEND;TZID=Asia/Tokyo:20190127T230000
DTSTAMP:20260421T061622
CREATED:20190111T052052Z
LAST-MODIFIED:20190111T052052Z
UID:18754-1548626400-1548630000@uo.com
SUMMARY:Wakoku - The Council Meeting with the King
DESCRIPTION:The monthly governor’s meeting with King Blackthorn. Everyone is invited.
URL:https://uo.com/event/wakoku-the-council-meeting-with-the-king-2/
CATEGORIES:EM Event
END:VEVENT
END:VCALENDAR