BEGIN:VCALENDAR
VERSION:2.0
PRODID:-//Ultima Online - ECPv5.16.4.1//NONSGML v1.0//EN
CALSCALE:GREGORIAN
METHOD:PUBLISH
X-WR-CALNAME:Ultima Online
X-ORIGINAL-URL:https://uo.com
X-WR-CALDESC:Events for Ultima Online
BEGIN:VTIMEZONE
TZID:America/New_York
BEGIN:DAYLIGHT
TZOFFSETFROM:-0500
TZOFFSETTO:-0400
TZNAME:EDT
DTSTART:20170312T070000
END:DAYLIGHT
BEGIN:STANDARD
TZOFFSETFROM:-0400
TZOFFSETTO:-0500
TZNAME:EST
DTSTART:20171105T060000
END:STANDARD
END:VTIMEZONE
BEGIN:VEVENT
DTSTART;TZID=America/New_York:20170619T200000
DTEND;TZID=America/New_York:20170619T210000
DTSTAMP:20260422T120536
CREATED:20170610T194828Z
LAST-MODIFIED:20170610T194828Z
UID:14025-1497902400-1497906000@uo.com
SUMMARY:Whats Next? - Chessy - 8pm Est - 6/19/17
DESCRIPTION:Whats Next? – Chessy – 8pm Est – 6/19/17
URL:https://uo.com/event/whats-next-chessy-8pm-est-61917/
LOCATION:Chesapeake
CATEGORIES:EM Event
END:VEVENT
END:VCALENDAR