BEGIN:VCALENDAR
VERSION:2.0
PRODID:-//Ultima Online - ECPv5.16.4.1//NONSGML v1.0//EN
CALSCALE:GREGORIAN
METHOD:PUBLISH
X-WR-CALNAME:Ultima Online
X-ORIGINAL-URL:https://uo.com
X-WR-CALDESC:Events for Ultima Online
BEGIN:VTIMEZONE
TZID:Asia/Tokyo
BEGIN:STANDARD
TZOFFSETFROM:+0900
TZOFFSETTO:+0900
TZNAME:JST
DTSTART:20190101T000000
END:STANDARD
END:VTIMEZONE
BEGIN:VEVENT
DTSTART;TZID=Asia/Tokyo:20190119T220000
DTEND;TZID=Asia/Tokyo:20190119T220000
DTSTAMP:20260421T055654
CREATED:20181210T123359Z
LAST-MODIFIED:20190107T150036Z
UID:18581-1547935200-1547935200@uo.com
SUMMARY:Yamato - Briannian Avengers Part IV "The Witch’s Ambitions 2"
DESCRIPTION:The Council Meeting Last month has reached a verdict to support the witches to discover the rest 2 pieces of the “Advent’s Spell Book” rather than lose control over them. During the discussion it has been revealed that Spell Book Name consists likely of the initial letters of several mages\, namely “A”non\, “D”ryus Doost\, “N”ystul and “T”yball.  It suggests the mages with initial letters V and E should follow. \nGodfrey and Daniel start to search the mage with an initial letter V.
URL:https://uo.com/event/yamato-briannian-avengers-part-iv-the-witchs-ambitions-2/
LOCATION:Serpent’s Hold Counselor’s guild
CATEGORIES:EM Event
END:VEVENT
END:VCALENDAR