BEGIN:VCALENDAR
VERSION:2.0
PRODID:-//Ultima Online - ECPv5.16.4.1//NONSGML v1.0//EN
CALSCALE:GREGORIAN
METHOD:PUBLISH
X-WR-CALNAME:Ultima Online
X-ORIGINAL-URL:https://uo.com
X-WR-CALDESC:Events for Ultima Online
BEGIN:VTIMEZONE
TZID:Asia/Tokyo
BEGIN:STANDARD
TZOFFSETFROM:+0900
TZOFFSETTO:+0900
TZNAME:JST
DTSTART:20180101T000000
END:STANDARD
END:VTIMEZONE
BEGIN:VEVENT
DTSTART;TZID=Asia/Tokyo:20181018T220000
DTEND;TZID=Asia/Tokyo:20181018T230000
DTSTAMP:20260421T091546
CREATED:20180927T154235Z
LAST-MODIFIED:20180927T154235Z
UID:17806-1539900000-1539903600@uo.com
SUMMARY:Yamato - Britannian Avengers (RP mini event)
DESCRIPTION:TBD
URL:https://uo.com/event/yamato-britannian-avengers-rp-mini-event-2/
LOCATION:TBD
CATEGORIES:EM Event
END:VEVENT
END:VCALENDAR