BEGIN:VCALENDAR
VERSION:2.0
PRODID:-//Ultima Online - ECPv5.16.4.1//NONSGML v1.0//EN
CALSCALE:GREGORIAN
METHOD:PUBLISH
X-WR-CALNAME:Ultima Online
X-ORIGINAL-URL:https://uo.com
X-WR-CALDESC:Events for Ultima Online
BEGIN:VTIMEZONE
TZID:Asia/Tokyo
BEGIN:STANDARD
TZOFFSETFROM:+0900
TZOFFSETTO:+0900
TZNAME:JST
DTSTART:20170101T000000
END:STANDARD
END:VTIMEZONE
BEGIN:VEVENT
DTSTART;TZID=Asia/Tokyo:20171007T220000
DTEND;TZID=Asia/Tokyo:20171007T220000
DTSTAMP:20260422T054801
CREATED:20170830T132355Z
LAST-MODIFIED:20170830T132355Z
UID:14705-1507413600-1507413600@uo.com
SUMMARY:Yamato - Britannian Full Moon Night
DESCRIPTION:TBD
URL:https://uo.com/event/yamato-britannian-full-moon-night/
LOCATION:TBD
CATEGORIES:EM Event
END:VEVENT
END:VCALENDAR