BEGIN:VCALENDAR
VERSION:2.0
PRODID:-//Ultima Online - ECPv5.16.4.1//NONSGML v1.0//EN
CALSCALE:GREGORIAN
METHOD:PUBLISH
X-WR-CALNAME:Ultima Online
X-ORIGINAL-URL:https://uo.com
X-WR-CALDESC:Events for Ultima Online
BEGIN:VTIMEZONE
TZID:America/New_York
BEGIN:DAYLIGHT
TZOFFSETFROM:-0500
TZOFFSETTO:-0400
TZNAME:EDT
DTSTART:20170312T070000
END:DAYLIGHT
BEGIN:STANDARD
TZOFFSETFROM:-0400
TZOFFSETTO:-0500
TZNAME:EST
DTSTART:20171105T060000
END:STANDARD
TZID:Europe/London
BEGIN:DAYLIGHT
TZOFFSETFROM:+0000
TZOFFSETTO:+0100
TZNAME:BST
DTSTART:20170326T010000
END:DAYLIGHT
BEGIN:STANDARD
TZOFFSETFROM:+0100
TZOFFSETTO:+0000
TZNAME:GMT
DTSTART:20171029T010000
END:STANDARD
TZID:Asia/Tokyo
BEGIN:STANDARD
TZOFFSETFROM:+0900
TZOFFSETTO:+0900
TZNAME:JST
DTSTART:20170101T000000
END:STANDARD
END:VTIMEZONE
BEGIN:VEVENT
DTSTART;TZID=America/New_York:20170212T200000
DTEND;TZID=America/New_York:20170212T210000
DTSTAMP:20260421T040547
CREATED:20170223T014054Z
LAST-MODIFIED:20170223T014054Z
UID:13057-1486929600-1486933200@uo.com
SUMMARY:Chesapeake EM & player Meet and great
DESCRIPTION:Meet at HoC to discuss new business\, as well as answering questions.
URL:https://uo.com/event/chesapeake-em-player-meet-and-great/
LOCATION:Chesapeake
CATEGORIES:EM Event
END:VEVENT
BEGIN:VEVENT
DTSTART;TZID=Europe/London:20170212T203000
DTEND;TZID=Europe/London:20170212T213000
DTSTAMP:20260421T040547
CREATED:20170206T183401Z
LAST-MODIFIED:20170206T183401Z
UID:12891-1486931400-1486935000@uo.com
SUMMARY:Europa ^ Mix\, Mingle\, Mob!
DESCRIPTION:
URL:https://uo.com/event/europa-mix-mingle-mob-6/
LOCATION:Europa – Counsellors’ Hall in Britain
CATEGORIES:EM Event
ORGANIZER;CN="EM%20Kimmie":MAILTO:kimmie@uoem.net
END:VEVENT
BEGIN:VEVENT
DTSTART;TZID=America/New_York:20170212T220000
DTEND;TZID=America/New_York:20170212T230000
DTSTAMP:20260421T040547
CREATED:20170128T173518Z
LAST-MODIFIED:20170128T173518Z
UID:12821-1486936800-1486940400@uo.com
SUMMARY:Sonoma - Governors Meeting
DESCRIPTION:King Blackthorn requests the presence of governors and citizens to the monthly governors meeting on Sunday\, February 12th at 7pm PST (10pm EST) held in Blackthorn Castle. All are welcome to attend. Gates will be provided from Luna and Britain.
URL:https://uo.com/event/sonoma-governors-meeting-7/
CATEGORIES:EM Event
END:VEVENT
BEGIN:VEVENT
DTSTART;TZID=Asia/Tokyo:20170212T220000
DTEND;TZID=Asia/Tokyo:20170212T220000
DTSTAMP:20260421T040547
CREATED:20170129T083905Z
LAST-MODIFIED:20170129T083905Z
UID:12832-1486936800-1486936800@uo.com
SUMMARY:Sakura - Mini Event “Goblin's restaurant 2”
DESCRIPTION:A fishing competition type mini event. \nChat : JapanEMevent
URL:https://uo.com/event/sakura-mini-event-goblins-restaurant-2/
LOCATION:Sakura – EM Hall\, Japan
CATEGORIES:EM Event
END:VEVENT
END:VCALENDAR