BEGIN:VCALENDAR
VERSION:2.0
PRODID:-//Ultima Online - ECPv5.16.4.1//NONSGML v1.0//EN
CALSCALE:GREGORIAN
METHOD:PUBLISH
X-WR-CALNAME:Ultima Online
X-ORIGINAL-URL:https://uo.com
X-WR-CALDESC:Events for Ultima Online
BEGIN:VTIMEZONE
TZID:America/New_York
BEGIN:DAYLIGHT
TZOFFSETFROM:-0500
TZOFFSETTO:-0400
TZNAME:EDT
DTSTART:20170312T070000
END:DAYLIGHT
BEGIN:STANDARD
TZOFFSETFROM:-0400
TZOFFSETTO:-0500
TZNAME:EST
DTSTART:20171105T060000
END:STANDARD
END:VTIMEZONE
BEGIN:VEVENT
DTSTART;TZID=America/New_York:20170215T220000
DTEND;TZID=America/New_York:20170215T230000
DTSTAMP:20260421T084030
CREATED:20170128T173320Z
LAST-MODIFIED:20170128T174957Z
UID:12819-1487196000-1487199600@uo.com
SUMMARY:Sonoma - Distilled Spirits
DESCRIPTION:King Blackthorn was notified of “spirit” sightings around an old whiskey distillery. The whiskey distiller is frantic\, as he claims every time a new barrel of whiskey is ready to be bottled\, it’s empty! “The spirits are drinking all my… spirits!” he proclaims. The King has requested the assistance of the Royal Britannian Guard to find the culprit of the missing whiskey. \nBrave members of Britannia are called to arms in Serpent’s Hold on Wednesday\, February 15th at 7pm PST (10pm EST).
URL:https://uo.com/event/sonoma-em-event-distilled-spirits/
CATEGORIES:EM Event
END:VEVENT
END:VCALENDAR