BEGIN:VCALENDAR
VERSION:2.0
PRODID:-//Ultima Online - ECPv5.16.4.1//NONSGML v1.0//EN
CALSCALE:GREGORIAN
METHOD:PUBLISH
X-WR-CALNAME:Ultima Online
X-ORIGINAL-URL:https://uo.com
X-WR-CALDESC:Events for Ultima Online
BEGIN:VTIMEZONE
TZID:America/Los_Angeles
BEGIN:DAYLIGHT
TZOFFSETFROM:-0800
TZOFFSETTO:-0700
TZNAME:PDT
DTSTART:20170312T100000
END:DAYLIGHT
BEGIN:STANDARD
TZOFFSETFROM:-0700
TZOFFSETTO:-0800
TZNAME:PST
DTSTART:20171105T090000
END:STANDARD
TZID:America/New_York
BEGIN:DAYLIGHT
TZOFFSETFROM:-0500
TZOFFSETTO:-0400
TZNAME:EDT
DTSTART:20170312T070000
END:DAYLIGHT
BEGIN:STANDARD
TZOFFSETFROM:-0400
TZOFFSETTO:-0500
TZNAME:EST
DTSTART:20171105T060000
END:STANDARD
TZID:Europe/London
BEGIN:DAYLIGHT
TZOFFSETFROM:+0000
TZOFFSETTO:+0100
TZNAME:BST
DTSTART:20170326T010000
END:DAYLIGHT
BEGIN:STANDARD
TZOFFSETFROM:+0100
TZOFFSETTO:+0000
TZNAME:GMT
DTSTART:20171029T010000
END:STANDARD
END:VTIMEZONE
BEGIN:VEVENT
DTSTART;TZID=America/Los_Angeles:20170216T190000
DTEND;TZID=America/Los_Angeles:20170216T200000
DTSTAMP:20260421T102310
CREATED:20170213T001132Z
LAST-MODIFIED:20170213T001132Z
UID:12993-1487271600-1487275200@uo.com
SUMMARY:Pacific - The Wilting Tree
DESCRIPTION:
URL:https://uo.com/event/pacific-the-wilting-tree/
CATEGORIES:EM Event
END:VEVENT
BEGIN:VEVENT
DTSTART;TZID=America/New_York:20170216T200000
DTEND;TZID=America/New_York:20170216T210000
DTSTAMP:20260421T102310
CREATED:20170128T170400Z
LAST-MODIFIED:20170128T170400Z
UID:12811-1487275200-1487278800@uo.com
SUMMARY:Legends - The Sage's Journey
DESCRIPTION:On February 16th at 8:00 pm EST\, meet Sage Alonso at the gypsy camp near Minoc.
URL:https://uo.com/event/legends-the-sages-journey/
LOCATION:Legends
CATEGORIES:EM Event
END:VEVENT
BEGIN:VEVENT
DTSTART;TZID=America/New_York:20170216T200000
DTEND;TZID=America/New_York:20170216T210000
DTSTAMP:20260421T102310
CREATED:20170206T070255Z
LAST-MODIFIED:20170206T070255Z
UID:12868-1487275200-1487278800@uo.com
SUMMARY:Atlantic - 8pm East (Standard Event\, Castle Blackthorn)
DESCRIPTION:
URL:https://uo.com/event/atlantic-8pm-east-standard-event-castle-blackthorn-2/
CATEGORIES:EM Event
END:VEVENT
BEGIN:VEVENT
DTSTART;TZID=Europe/London:20170216T203000
DTEND;TZID=Europe/London:20170216T213000
DTSTAMP:20260421T102310
CREATED:20170207T173715Z
LAST-MODIFIED:20170208T194128Z
UID:12907-1487277000-1487280600@uo.com
SUMMARY:Europa- Bagball PvP Madness
DESCRIPTION:8.30 UK time at EM HALL \nWill you win the first pvp Bagball tournament on Europa? \nRules: \n-Team of 3 players \n-any template will be accepted\, no pets\, you will play on foot \n-fields allowed \n-no summons \n-the first team that scores 3 goals will win\, you will have to carry the bagball over the score line. \n-after each goal each team has time to ress\, we will prepare stat loss potions too. \n-don’t attack the spectators during the event! \nThe best team will have a plaque at the EM Hall ! \nEmail your team name and the 3 players name to EM Sarah : sarah@uoem.net
URL:https://uo.com/event/europa-bagball-pvp-madness/
CATEGORIES:EM Event
END:VEVENT
END:VCALENDAR