BEGIN:VCALENDAR
VERSION:2.0
PRODID:-//Ultima Online - ECPv5.16.4.1//NONSGML v1.0//EN
CALSCALE:GREGORIAN
METHOD:PUBLISH
X-WR-CALNAME:Ultima Online
X-ORIGINAL-URL:https://uo.com
X-WR-CALDESC:Events for Ultima Online
BEGIN:VTIMEZONE
TZID:America/Los_Angeles
BEGIN:DAYLIGHT
TZOFFSETFROM:-0800
TZOFFSETTO:-0700
TZNAME:PDT
DTSTART:20170312T100000
END:DAYLIGHT
BEGIN:STANDARD
TZOFFSETFROM:-0700
TZOFFSETTO:-0800
TZNAME:PST
DTSTART:20171105T090000
END:STANDARD
TZID:America/Chicago
BEGIN:DAYLIGHT
TZOFFSETFROM:-0600
TZOFFSETTO:-0500
TZNAME:CDT
DTSTART:20170312T080000
END:DAYLIGHT
BEGIN:STANDARD
TZOFFSETFROM:-0500
TZOFFSETTO:-0600
TZNAME:CST
DTSTART:20171105T070000
END:STANDARD
TZID:America/New_York
BEGIN:DAYLIGHT
TZOFFSETFROM:-0500
TZOFFSETTO:-0400
TZNAME:EDT
DTSTART:20170312T070000
END:DAYLIGHT
BEGIN:STANDARD
TZOFFSETFROM:-0400
TZOFFSETTO:-0500
TZNAME:EST
DTSTART:20171105T060000
END:STANDARD
TZID:Asia/Tokyo
BEGIN:STANDARD
TZOFFSETFROM:+0900
TZOFFSETTO:+0900
TZNAME:JST
DTSTART:20170101T000000
END:STANDARD
END:VTIMEZONE
BEGIN:VEVENT
DTSTART;TZID=America/Los_Angeles:20170218T190000
DTEND;TZID=America/Los_Angeles:20170218T200000
DTSTAMP:20260421T130708
CREATED:20170208T020209Z
LAST-MODIFIED:20170208T020209Z
UID:12914-1487444400-1487448000@uo.com
SUMMARY:Baja - Because\, I Love Yew
DESCRIPTION:Vladimir the Ranger needs your help with defeating an evil\, unruly suitor so he can enjoy a quiet evening with his love\, Aideen of Yew.
URL:https://uo.com/event/baja-because-i-love-yew/
LOCATION:Meet At Counselor Hall
CATEGORIES:EM Event
END:VEVENT
BEGIN:VEVENT
DTSTART;TZID=America/Chicago:20170218T200000
DTEND;TZID=America/Chicago:20170218T200000
DTSTAMP:20260421T130708
CREATED:20170206T145807Z
LAST-MODIFIED:20170206T145807Z
UID:12882-1487448000-1487448000@uo.com
SUMMARY:Great Lakes - Royal Spy Mission
DESCRIPTION:This Royal Spy mission has the codename “Prelude”. To attend\, go to the Britain Counselor Hall and investigate the suit of armor.
URL:https://uo.com/event/great-lakes-royal-spy-mission-37/
LOCATION:Great Lakes – Counselor Hall
CATEGORIES:EM Event
END:VEVENT
BEGIN:VEVENT
DTSTART;TZID=America/New_York:20170218T200000
DTEND;TZID=America/New_York:20170218T210000
DTSTAMP:20260421T130708
CREATED:20170207T104443Z
LAST-MODIFIED:20170207T104443Z
UID:12896-1487448000-1487451600@uo.com
SUMMARY:Arirang - Love of Father
DESCRIPTION:Event Schedule \nDate/Time: February 18th\, 2017 08:00PM KST\nMeeting Place: Britain EM Hall \nEvent Story \nGolem and Sera the Engineer eventually able to settle down what happened in Tomb of Sultans. And they were acknowledged by Sultan\, and they could stay as long as they want in city of Nujel’m. Now Sera wants to meet Hanse\, the one of noble and former colleague. \nCaution! \nWe’re expecting battle in this event\, please insure your precious items or leave them to your bank box. Event time is not that long so we’ll start it right in time. \nWarning \nIf anyone disrupt the event\, spamming\, insulting\, and harassing others or EM\, event will be stopped until the situation is handled. Please be advice that any inappropriate behavior will noted to your account\, and some of them can be fatal. EM will trying to hear your suggestion\, complain\, question\, and feedback willingly. Even though EM willing to hear and deal with the issue\, please note that there are some things that EM cannot deal with. \nEvent Chat Channel \nDuring the event\, we’ll use “Arirang EM Event” chat channel. To communicate with EM\, it is highly recommended to join the channel. EM will not take any responsibility for any penalties of information because of this.
URL:https://uo.com/event/arirang-love-of-father/
LOCATION:Arirang
CATEGORIES:EM Event
END:VEVENT
BEGIN:VEVENT
DTSTART;TZID=America/Chicago:20170218T200000
DTEND;TZID=America/Chicago:20170218T210000
DTSTAMP:20260421T130708
CREATED:20170207T224056Z
LAST-MODIFIED:20170207T224056Z
UID:12910-1487448000-1487451600@uo.com
SUMMARY:Lake Austin Lover's Spat
DESCRIPTION:EM Event\n8PM Central Time \n“Lover’s Spat” \nA lover’s quarrel leads to a missing persons report. Everyone is asked to help find Jack\, the baker’s son. \n 
URL:https://uo.com/event/lake-austin-lovers-spat/
LOCATION:Lake Austin
END:VEVENT
BEGIN:VEVENT
DTSTART;TZID=Asia/Tokyo:20170218T220000
DTEND;TZID=Asia/Tokyo:20170218T220000
DTSTAMP:20260421T130708
CREATED:20170112T140448Z
LAST-MODIFIED:20170112T140448Z
UID:12636-1487455200-1487455200@uo.com
SUMMARY:Mizuho - The Council Meeting with the King with mini event afterward!
DESCRIPTION:The King invites all Governors and Citizens to the Council Meeting.\n*Please note this meeting requires everyone is “in-character”\, and thus roleplay is expected of all who attend.
URL:https://uo.com/event/mizuho-the-council-meeting-with-the-king-with-mini-event-afterward/
LOCATION:Castle Blackthorn
CATEGORIES:EM Event
END:VEVENT
END:VCALENDAR