BEGIN:VCALENDAR
VERSION:2.0
PRODID:-//Ultima Online - ECPv5.16.4.1//NONSGML v1.0//EN
CALSCALE:GREGORIAN
METHOD:PUBLISH
X-WR-CALNAME:Ultima Online
X-ORIGINAL-URL:https://uo.com
X-WR-CALDESC:Events for Ultima Online
BEGIN:VTIMEZONE
TZID:America/Los_Angeles
BEGIN:DAYLIGHT
TZOFFSETFROM:-0800
TZOFFSETTO:-0700
TZNAME:PDT
DTSTART:20170312T100000
END:DAYLIGHT
BEGIN:STANDARD
TZOFFSETFROM:-0700
TZOFFSETTO:-0800
TZNAME:PST
DTSTART:20171105T090000
END:STANDARD
TZID:America/Chicago
BEGIN:DAYLIGHT
TZOFFSETFROM:-0600
TZOFFSETTO:-0500
TZNAME:CDT
DTSTART:20170312T080000
END:DAYLIGHT
BEGIN:STANDARD
TZOFFSETFROM:-0500
TZOFFSETTO:-0600
TZNAME:CST
DTSTART:20171105T070000
END:STANDARD
END:VTIMEZONE
BEGIN:VEVENT
DTSTART;TZID=America/Los_Angeles:20170311T190000
DTEND;TZID=America/Los_Angeles:20170311T200000
DTSTAMP:20260423T002518
CREATED:20170302T024201Z
LAST-MODIFIED:20170302T024201Z
UID:13118-1489258800-1489262400@uo.com
SUMMARY:Baja - Meet & Greet
DESCRIPTION:Please join me for a Meet and Greet! I am looking for you feedback\, questions and suggestions from events and stories from the previous year.
URL:https://uo.com/event/baja-meet-greet/
LOCATION:Meet At Counselor Hall
CATEGORIES:EM Event
END:VEVENT
BEGIN:VEVENT
DTSTART;TZID=America/Chicago:20170311T200000
DTEND;TZID=America/Chicago:20170311T210000
DTSTAMP:20260423T002518
CREATED:20170301T224502Z
LAST-MODIFIED:20170301T225354Z
UID:13112-1489262400-1489266000@uo.com
SUMMARY:Lake Austin - “Governor’s Council Meeting”
DESCRIPTION:March 11 – 8PM Central Time – “Governor’s Council Meeting” – Governors and concerned citizens called to attend. To be discussed: Graveyard Overpopulation Problems
URL:https://uo.com/event/lake-austin-governors-council-meeting/
CATEGORIES:EM Event
END:VEVENT
BEGIN:VEVENT
DTSTART;TZID=America/Chicago:20170311T200000
DTEND;TZID=America/Chicago:20170311T200000
DTSTAMP:20260423T002518
CREATED:20170305T043005Z
LAST-MODIFIED:20170305T043005Z
UID:13152-1489262400-1489262400@uo.com
SUMMARY:Great Lakes - Royal Spy Mission
DESCRIPTION:This Royal Spy mission has the codename “Initiation”. To attend\, go to the Britain Counselor Hall and investigate the suit of armor.
URL:https://uo.com/event/great-lakes-royal-spy-mission-38/
LOCATION:Great Lakes – Counselor Hall
CATEGORIES:EM Event
END:VEVENT
END:VCALENDAR