BEGIN:VCALENDAR
VERSION:2.0
PRODID:-//Ultima Online - ECPv5.16.4.1//NONSGML v1.0//EN
CALSCALE:GREGORIAN
METHOD:PUBLISH
X-WR-CALNAME:Ultima Online
X-ORIGINAL-URL:https://uo.com
X-WR-CALDESC:Events for Ultima Online
BEGIN:VTIMEZONE
TZID:Europe/London
BEGIN:DAYLIGHT
TZOFFSETFROM:+0000
TZOFFSETTO:+0100
TZNAME:BST
DTSTART:20170326T010000
END:DAYLIGHT
BEGIN:STANDARD
TZOFFSETFROM:+0100
TZOFFSETTO:+0000
TZNAME:GMT
DTSTART:20171029T010000
END:STANDARD
TZID:America/New_York
BEGIN:DAYLIGHT
TZOFFSETFROM:-0500
TZOFFSETTO:-0400
TZNAME:EDT
DTSTART:20170312T070000
END:DAYLIGHT
BEGIN:STANDARD
TZOFFSETFROM:-0400
TZOFFSETTO:-0500
TZNAME:EST
DTSTART:20171105T060000
END:STANDARD
END:VTIMEZONE
BEGIN:VEVENT
DTSTART;TZID=Europe/London:20170312T203000
DTEND;TZID=Europe/London:20170312T220000
DTSTAMP:20260423T021935
CREATED:20170306T161459Z
LAST-MODIFIED:20170306T161459Z
UID:13191-1489350600-1489356000@uo.com
SUMMARY:Europa ^ Mix\, Mingle\, Mob!
DESCRIPTION:
URL:https://uo.com/event/europa-mix-mingle-mob-7/
LOCATION:EM Counselor Hall (Britain)
CATEGORIES:EM Event
END:VEVENT
BEGIN:VEVENT
DTSTART;TZID=America/New_York:20170312T220000
DTEND;TZID=America/New_York:20170312T230000
DTSTAMP:20260423T021935
CREATED:20170302T025504Z
LAST-MODIFIED:20170302T025504Z
UID:13122-1489356000-1489359600@uo.com
SUMMARY:Sonoma - Governors Meeting 7pm PST
DESCRIPTION:King Blackthorn requests the presence of governors and citizens to the monthly governors meeting on Sunday\, March 12th at 7pm PST (10pm EST). \nGates will be provided from Luna and Britain banks.
URL:https://uo.com/event/sonoma-governors-meeting-7pm-pst/
LOCATION:Blackthorn’s Castle
CATEGORIES:EM Event
END:VEVENT
END:VCALENDAR