BEGIN:VCALENDAR
VERSION:2.0
PRODID:-//Ultima Online - ECPv5.16.4.1//NONSGML v1.0//EN
CALSCALE:GREGORIAN
METHOD:PUBLISH
X-WR-CALNAME:Ultima Online
X-ORIGINAL-URL:https://uo.com
X-WR-CALDESC:Events for Ultima Online
BEGIN:VTIMEZONE
TZID:America/New_York
BEGIN:DAYLIGHT
TZOFFSETFROM:-0500
TZOFFSETTO:-0400
TZNAME:EDT
DTSTART:20170312T070000
END:DAYLIGHT
BEGIN:STANDARD
TZOFFSETFROM:-0400
TZOFFSETTO:-0500
TZNAME:EST
DTSTART:20171105T060000
END:STANDARD
TZID:Asia/Tokyo
BEGIN:STANDARD
TZOFFSETFROM:+0900
TZOFFSETTO:+0900
TZNAME:JST
DTSTART:20170101T000000
END:STANDARD
END:VTIMEZONE
BEGIN:VEVENT
DTSTART;TZID=America/New_York:20170317T080000
DTEND;TZID=America/New_York:20170317T170000
DTSTAMP:20260423T095815
CREATED:20170301T215742Z
LAST-MODIFIED:20170301T215742Z
UID:13106-1489737600-1489770000@uo.com
SUMMARY:Drachenfels: Lady Bee's Journal (Part II / Teil II)
DESCRIPTION:Time: 8:30pm CET (UTC+1).  Location: Counselor’s Hall\, Britain\, Trammel.\nMain HoF (RP) Event: After the roses\, Garina Mamba discovered another passion of Lady Bee… bring some time for solving these riddles! \nZeit: 20:30 Uhr CET (UTC+1). Ort: Counselor’s Hall\, Britain\, Trammel.\nHauptevent HoF (RP): Nach dem Rosen hat Garina Mamba eine weitere Leidenschaft von Lady Bee entdeckt… bringt Zeit mit um diese Rätsel zu lösen!
URL:https://uo.com/event/drachenfels-lady-bees-journal-part-ii-teil-ii/
LOCATION:Drachenfels
CATEGORIES:EM Event
END:VEVENT
BEGIN:VEVENT
DTSTART;TZID=Asia/Tokyo:20170317T210000
DTEND;TZID=Asia/Tokyo:20170317T230000
DTSTAMP:20260423T095815
CREATED:20170211T085344Z
LAST-MODIFIED:20170305T113536Z
UID:12975-1489784400-1489791600@uo.com
SUMMARY:Izumo・Mugen - White Day event
DESCRIPTION:In Japan\, Valentine’s Day is typically observed by women presenting chocolate gifts\, usually to men\, as an expression of love\, courtesy\, or social obligation. \nWhite Day is the day the man gives presents back to the woman. \nhttps://en.wikipedia.org/wiki/White_Day \n°˖✧◝(⁰▿⁰)◜✧˖° \nMeet Samantha the widow at Trinsic NPC house. She would open the chest following the will of her husband passed away 10 years ago. \nA gate will be provided from Nujel’m EM Hall (New Haven Bank for Mugen) \nSee you all there! \n======================= \n3/17(Fri)\n21：00～ Izumo\n22：00～ Mugen\n——————-\n3/18(Sat)\n20：30～ Mizuho\n21：15～ Yamato\n22：00～ Hokuto\n——————-\n3/19(Sun)\n20：30～ Wakoku\n21：15～ Asuka\n22：00～ Sakura
URL:https://uo.com/event/izumo%e3%83%bbmugen-white-day-event/
LOCATION:TBD
CATEGORIES:EM Event
END:VEVENT
END:VCALENDAR