BEGIN:VCALENDAR
VERSION:2.0
PRODID:-//Ultima Online - ECPv5.16.4.1//NONSGML v1.0//EN
CALSCALE:GREGORIAN
METHOD:PUBLISH
X-WR-CALNAME:Ultima Online
X-ORIGINAL-URL:https://uo.com
X-WR-CALDESC:Events for Ultima Online
BEGIN:VTIMEZONE
TZID:America/Chicago
BEGIN:DAYLIGHT
TZOFFSETFROM:-0600
TZOFFSETTO:-0500
TZNAME:CDT
DTSTART:20190310T080000
END:DAYLIGHT
BEGIN:STANDARD
TZOFFSETFROM:-0500
TZOFFSETTO:-0600
TZNAME:CST
DTSTART:20191103T070000
END:STANDARD
TZID:America/New_York
BEGIN:DAYLIGHT
TZOFFSETFROM:-0500
TZOFFSETTO:-0400
TZNAME:EDT
DTSTART:20190310T070000
END:DAYLIGHT
BEGIN:STANDARD
TZOFFSETFROM:-0400
TZOFFSETTO:-0500
TZNAME:EST
DTSTART:20191103T060000
END:STANDARD
END:VTIMEZONE
BEGIN:VEVENT
DTSTART;TZID=America/Chicago:20190925T200000
DTEND;TZID=America/Chicago:20190925T200000
DTSTAMP:20260422T124450
CREATED:20190909T182727Z
LAST-MODIFIED:20190909T182727Z
UID:20734-1569441600-1569441600@uo.com
SUMMARY:LS - RBG Promotion (See Note)
DESCRIPTION:Meet Sir Travis in the throne room of Castle Blackthorn in northern Britain. \n  \nNote: If you haven’t turned in a Guard Report you will NOT receive a promotion item. (Only 18 people are eligable)
URL:https://uo.com/event/ls-rbg-promotion-see-note/
LOCATION:Castle Blackthorn Throne Room
END:VEVENT
BEGIN:VEVENT
DTSTART;TZID=America/New_York:20190925T210000
DTEND;TZID=America/New_York:20190925T220000
DTSTAMP:20260422T124450
CREATED:20190828T171213Z
LAST-MODIFIED:20190912T020645Z
UID:20577-1569445200-1569448800@uo.com
SUMMARY:Chesapeake – Happy Anniversary
DESCRIPTION:It’s EM Artemis’ 1 year anniversary on Chesapeake! So it’s time for some nonsensical fun! Artemis is going to send you all on a “mission” to figure out who Artemis is named after. There are 4 potential candidates.. or are there?.. Riddles\, fun and answers? Maybe? \nWe meet at the HoC for all of this and more? Maybe?  haha! \nGates at WBB and Luna bank for those that need it!
URL:https://uo.com/event/chesapeake-happy-anniversary/
CATEGORIES:EM Event
END:VEVENT
END:VCALENDAR