BEGIN:VCALENDAR
VERSION:2.0
PRODID:-//Ultima Online - ECPv5.16.4.1//NONSGML v1.0//EN
CALSCALE:GREGORIAN
METHOD:PUBLISH
X-WR-CALNAME:Ultima Online
X-ORIGINAL-URL:https://uo.com
X-WR-CALDESC:Events for Ultima Online
BEGIN:VTIMEZONE
TZID:Australia/Sydney
BEGIN:STANDARD
TZOFFSETFROM:+1100
TZOFFSETTO:+1000
TZNAME:AEST
DTSTART:20220402T160000
END:STANDARD
BEGIN:DAYLIGHT
TZOFFSETFROM:+1000
TZOFFSETTO:+1100
TZNAME:AEDT
DTSTART:20221001T160000
END:DAYLIGHT
TZID:America/Chicago
BEGIN:DAYLIGHT
TZOFFSETFROM:-0600
TZOFFSETTO:-0500
TZNAME:CDT
DTSTART:20220313T080000
END:DAYLIGHT
BEGIN:STANDARD
TZOFFSETFROM:-0500
TZOFFSETTO:-0600
TZNAME:CST
DTSTART:20221106T070000
END:STANDARD
TZID:America/New_York
BEGIN:DAYLIGHT
TZOFFSETFROM:-0500
TZOFFSETTO:-0400
TZNAME:EDT
DTSTART:20220313T070000
END:DAYLIGHT
BEGIN:STANDARD
TZOFFSETFROM:-0400
TZOFFSETTO:-0500
TZNAME:EST
DTSTART:20221106T060000
END:STANDARD
TZID:Europe/Berlin
BEGIN:DAYLIGHT
TZOFFSETFROM:+0100
TZOFFSETTO:+0200
TZNAME:CEST
DTSTART:20220327T010000
END:DAYLIGHT
BEGIN:STANDARD
TZOFFSETFROM:+0200
TZOFFSETTO:+0100
TZNAME:CET
DTSTART:20221030T010000
END:STANDARD
END:VTIMEZONE
BEGIN:VEVENT
DTSTART;TZID=Australia/Sydney:20220921T130000
DTEND;TZID=Australia/Sydney:20220930T200000
DTSTAMP:20260422T212940
CREATED:20220921T032228Z
LAST-MODIFIED:20220921T201742Z
UID:28231-1663765200-1664568000@uo.com
SUMMARY:Oceania - Trouble in Trinsic
DESCRIPTION:A rift in reality has been detected in Trinsic\, and there have been reports of fighting in the streets and horrors murdering citizens. \nBE WARNED – we can not guarantee your safety in Trinsic. \nCitizens are cautioned from travelling in this area.
URL:https://uo.com/event/trouble-in-trinsic-oceania/
CATEGORIES:EM Event
END:VEVENT
BEGIN:VEVENT
DTSTART;TZID=America/Chicago:20220927T200000
DTEND;TZID=America/Chicago:20220927T200000
DTSTAMP:20260422T212940
CREATED:20220905T034035Z
LAST-MODIFIED:20220905T034035Z
UID:28148-1664308800-1664308800@uo.com
SUMMARY:Great Lakes – Royal Britannian Guard
DESCRIPTION:This Royal Britannian Guard mission has the codename “Furnace of Mystery and Time.” To attend\, go through the moongate inside the Britain Counselor Hall.
URL:https://uo.com/event/great-lakes-royal-britannian-guard-122/
LOCATION:Great Lakes – Counselor Hall
CATEGORIES:EM Event
END:VEVENT
BEGIN:VEVENT
DTSTART;TZID=America/New_York:20220927T200000
DTEND;TZID=America/New_York:20220927T210000
DTSTAMP:20260422T212940
CREATED:20220910T012749Z
LAST-MODIFIED:20220910T012749Z
UID:28181-1664308800-1664312400@uo.com
SUMMARY:Legends- A Firey Destination
DESCRIPTION:Gather at the Britain Councilor Hall for further Instruction.
URL:https://uo.com/event/legends-a-firey-destination/
CATEGORIES:EM Event
END:VEVENT
BEGIN:VEVENT
DTSTART;TZID=Europe/Berlin:20220927T203000
DTEND;TZID=Europe/Berlin:20220927T213000
DTSTAMP:20260422T212940
CREATED:20220909T064034Z
LAST-MODIFIED:20220909T064034Z
UID:28173-1664310600-1664314200@uo.com
SUMMARY:Drachenfels: Silver Celebration | Silberne Feierlichkeiten
DESCRIPTION:Time: 8:30pm CEST (UTC+2)\nMain Event: Silver Celebration\nLocation: EM Hall\, Britain\, Trammel \n\nZeit: 20:30 Uhr CEST (UTC+2)\nHaupt Event: Silberne Feierlichkeiten\nOrt: EM Halle\, Britain\, Trammel
URL:https://uo.com/event/drachenfels-silver-celebration-silberne-feierlichkeiten/
LOCATION:Drachenfels
CATEGORIES:EM Event
END:VEVENT
END:VCALENDAR