BEGIN:VCALENDAR
VERSION:2.0
PRODID:-//Ultima Online - ECPv5.16.4.1//NONSGML v1.0//EN
CALSCALE:GREGORIAN
METHOD:PUBLISH
X-WR-CALNAME:Ultima Online
X-ORIGINAL-URL:https://uo.com
X-WR-CALDESC:Events for Ultima Online
BEGIN:VTIMEZONE
TZID:America/Chicago
BEGIN:DAYLIGHT
TZOFFSETFROM:-0600
TZOFFSETTO:-0500
TZNAME:CDT
DTSTART:20250309T080000
END:DAYLIGHT
BEGIN:STANDARD
TZOFFSETFROM:-0500
TZOFFSETTO:-0600
TZNAME:CST
DTSTART:20251102T070000
END:STANDARD
END:VTIMEZONE
BEGIN:VEVENT
DTSTART;TZID=America/Chicago:20251012T200000
DTEND;TZID=America/Chicago:20251012T210000
DTSTAMP:20260421T055333
CREATED:20250930T002508Z
LAST-MODIFIED:20250930T002508Z
UID:35859-1760299200-1760302800@uo.com
SUMMARY:Lake Superior - Cragtribe Vengeance
DESCRIPTION:Sareva Tinira calls for assistance to deal with a tribe of marauding orcs! 
URL:https://uo.com/event/lake-superior-cragtribe-vengeance/
LOCATION:Meet At Counselor Hall
CATEGORIES:EM Event
END:VEVENT
END:VCALENDAR