BEGIN:VCALENDAR
VERSION:2.0
PRODID:-//Ultima Online - ECPv5.16.4.1//NONSGML v1.0//EN
CALSCALE:GREGORIAN
METHOD:PUBLISH
X-WR-CALNAME:Ultima Online
X-ORIGINAL-URL:https://uo.com
X-WR-CALDESC:Events for Ultima Online
BEGIN:VTIMEZONE
TZID:America/New_York
BEGIN:DAYLIGHT
TZOFFSETFROM:-0500
TZOFFSETTO:-0400
TZNAME:EDT
DTSTART:20250309T070000
END:DAYLIGHT
BEGIN:STANDARD
TZOFFSETFROM:-0400
TZOFFSETTO:-0500
TZNAME:EST
DTSTART:20251102T060000
END:STANDARD
TZID:America/Chicago
BEGIN:DAYLIGHT
TZOFFSETFROM:-0600
TZOFFSETTO:-0500
TZNAME:CDT
DTSTART:20250309T080000
END:DAYLIGHT
BEGIN:STANDARD
TZOFFSETFROM:-0500
TZOFFSETTO:-0600
TZNAME:CST
DTSTART:20251102T070000
END:STANDARD
END:VTIMEZONE
BEGIN:VEVENT
DTSTART;TZID=America/New_York:20251014T200000
DTEND;TZID=America/New_York:20251014T210000
DTSTAMP:20260421T054054
CREATED:20251002T020503Z
LAST-MODIFIED:20251002T020503Z
UID:35885-1760472000-1760475600@uo.com
SUMMARY:Legends-Tavern Night
DESCRIPTION:Meet friends or foes at your favorite Tavern! Have a drink and enjoy the company and talk! \n  \nGate will be provided to location!
URL:https://uo.com/event/legends-tavern-night-19/
CATEGORIES:EM Event
END:VEVENT
BEGIN:VEVENT
DTSTART;TZID=America/Chicago:20251014T200000
DTEND;TZID=America/Chicago:20251014T200000
DTSTAMP:20260421T054054
CREATED:20251005T031802Z
LAST-MODIFIED:20251005T031802Z
UID:35932-1760472000-1760472000@uo.com
SUMMARY:Great Lakes – Royal Society of Soothsayers
DESCRIPTION:This Soothsayers mission has the codename “Impossible!”. To attend\, go through the moongate inside the Britain Counselor Hall.
URL:https://uo.com/event/great-lakes-royal-society-of-soothsayers-4/
LOCATION:Great Lakes – Counselor Hall
CATEGORIES:EM Event
END:VEVENT
END:VCALENDAR