BEGIN:VCALENDAR
VERSION:2.0
PRODID:-//Ultima Online - ECPv5.16.4.1//NONSGML v1.0//EN
CALSCALE:GREGORIAN
METHOD:PUBLISH
X-WR-CALNAME:Ultima Online
X-ORIGINAL-URL:https://uo.com
X-WR-CALDESC:Events for Ultima Online
BEGIN:VTIMEZONE
TZID:America/Los_Angeles
BEGIN:DAYLIGHT
TZOFFSETFROM:-0800
TZOFFSETTO:-0700
TZNAME:PDT
DTSTART:20250309T100000
END:DAYLIGHT
BEGIN:STANDARD
TZOFFSETFROM:-0700
TZOFFSETTO:-0800
TZNAME:PST
DTSTART:20251102T090000
END:STANDARD
TZID:America/Chicago
BEGIN:DAYLIGHT
TZOFFSETFROM:-0600
TZOFFSETTO:-0500
TZNAME:CDT
DTSTART:20250309T080000
END:DAYLIGHT
BEGIN:STANDARD
TZOFFSETFROM:-0500
TZOFFSETTO:-0600
TZNAME:CST
DTSTART:20251102T070000
END:STANDARD
TZID:Asia/Tokyo
BEGIN:STANDARD
TZOFFSETFROM:+0900
TZOFFSETTO:+0900
TZNAME:JST
DTSTART:20250101T000000
END:STANDARD
TZID:America/New_York
BEGIN:DAYLIGHT
TZOFFSETFROM:-0500
TZOFFSETTO:-0400
TZNAME:EDT
DTSTART:20250309T070000
END:DAYLIGHT
BEGIN:STANDARD
TZOFFSETFROM:-0400
TZOFFSETTO:-0500
TZNAME:EST
DTSTART:20251102T060000
END:STANDARD
END:VTIMEZONE
BEGIN:VEVENT
DTSTART;TZID=America/Los_Angeles:20251019T180000
DTEND;TZID=America/Los_Angeles:20251019T190000
DTSTAMP:20260421T053009
CREATED:20251018T052010Z
LAST-MODIFIED:20251018T052010Z
UID:36071-1760896800-1760900400@uo.com
SUMMARY:Sonoma EM Event
DESCRIPTION:Adventurers Needed Sunday October 19th 6pm PDT (This is an oracle event) Meet at the Vesper Museum
URL:https://uo.com/event/sonoma-em-event-46/
CATEGORIES:EM Event
END:VEVENT
BEGIN:VEVENT
DTSTART;TZID=America/Chicago:20251019T200000
DTEND;TZID=America/Chicago:20251019T210000
DTSTAMP:20260421T053009
CREATED:20250930T002748Z
LAST-MODIFIED:20250930T002748Z
UID:35861-1760904000-1760907600@uo.com
SUMMARY:Lake Superior - Trees Of The Dead
DESCRIPTION:Sareva Tinira calls for assistance to investigate a foul haunted forest!
URL:https://uo.com/event/lake-superior-trees-of-the-dead/
LOCATION:Meet At Counselor Hall
CATEGORIES:EM Event
END:VEVENT
BEGIN:VEVENT
DTSTART;TZID=Asia/Tokyo:20251019T210000
DTEND;TZID=Asia/Tokyo:20251019T210000
DTSTAMP:20260421T053009
CREATED:20250929T043855Z
LAST-MODIFIED:20250929T043855Z
UID:35845-1760907600-1760907600@uo.com
SUMMARY:Izumo - Event
DESCRIPTION:TBD
URL:https://uo.com/event/izumo-event-60/
LOCATION:TBD
CATEGORIES:EM Event
END:VEVENT
BEGIN:VEVENT
DTSTART;TZID=America/New_York:20251019T210000
DTEND;TZID=America/New_York:20251019T210000
DTSTAMP:20260421T053009
CREATED:20251018T050221Z
LAST-MODIFIED:20251018T050221Z
UID:36065-1760907600-1760907600@uo.com
SUMMARY:Atlantic Royal Council
DESCRIPTION:Gather in the Governor’s Hall of Castle Blackthorn.
URL:https://uo.com/event/atlantic-royal-council-19/
LOCATION:Castle Blackthorn Governors Hall
CATEGORIES:EM Event
END:VEVENT
BEGIN:VEVENT
DTSTART;TZID=Asia/Tokyo:20251019T220000
DTEND;TZID=Asia/Tokyo:20251019T220000
DTSTAMP:20260421T053009
CREATED:20250929T044033Z
LAST-MODIFIED:20250929T044033Z
UID:35847-1760911200-1760911200@uo.com
SUMMARY:Sakura - Event
DESCRIPTION:TBD
URL:https://uo.com/event/sakura-event-81/
LOCATION:TBD
CATEGORIES:EM Event
END:VEVENT
END:VCALENDAR