BEGIN:VCALENDAR
VERSION:2.0
PRODID:-//Ultima Online - ECPv5.16.4.1//NONSGML v1.0//EN
CALSCALE:GREGORIAN
METHOD:PUBLISH
X-WR-CALNAME:Ultima Online
X-ORIGINAL-URL:https://uo.com
X-WR-CALDESC:Events for Ultima Online
BEGIN:VTIMEZONE
TZID:America/New_York
BEGIN:DAYLIGHT
TZOFFSETFROM:-0500
TZOFFSETTO:-0400
TZNAME:EDT
DTSTART:20250309T070000
END:DAYLIGHT
BEGIN:STANDARD
TZOFFSETFROM:-0400
TZOFFSETTO:-0500
TZNAME:EST
DTSTART:20251102T060000
END:STANDARD
END:VTIMEZONE
BEGIN:VEVENT
DTSTART;TZID=America/New_York:20251020T210000
DTEND;TZID=America/New_York:20251020T210000
DTSTAMP:20260421T064117
CREATED:20251018T050341Z
LAST-MODIFIED:20251018T050341Z
UID:36067-1760994000-1760994000@uo.com
SUMMARY:Atl - R. C. E. Verity Sub-Annex
DESCRIPTION:Gather in the Britain Hall for instructions.
URL:https://uo.com/event/atl-r-c-e-verity-sub-annex/
LOCATION:EM Counselor Hall (Britain)
CATEGORIES:EM Event
END:VEVENT
END:VCALENDAR