BEGIN:VCALENDAR
VERSION:2.0
PRODID:-//Ultima Online - ECPv5.16.4.1//NONSGML v1.0//EN
CALSCALE:GREGORIAN
METHOD:PUBLISH
X-WR-CALNAME:Ultima Online
X-ORIGINAL-URL:https://uo.com
X-WR-CALDESC:Events for Ultima Online
BEGIN:VTIMEZONE
TZID:America/New_York
BEGIN:DAYLIGHT
TZOFFSETFROM:-0500
TZOFFSETTO:-0400
TZNAME:EDT
DTSTART:20250309T070000
END:DAYLIGHT
BEGIN:STANDARD
TZOFFSETFROM:-0400
TZOFFSETTO:-0500
TZNAME:EST
DTSTART:20251102T060000
END:STANDARD
END:VTIMEZONE
BEGIN:VEVENT
DTSTART;TZID=America/New_York:20251022T210000
DTEND;TZID=America/New_York:20251022T220000
DTSTAMP:20260421T053009
CREATED:20251003T123159Z
LAST-MODIFIED:20251003T123159Z
UID:35913-1761166800-1761170400@uo.com
SUMMARY:Chesapeake - Spooky Stories\, The Final Stories
DESCRIPTION:The stories are getting more and more spooky! Starla is getting worried that something might happen during the final stories and would like the bravest of Britannia to protect her during her story telling……just in case.  Gates will be provided at Brit and Luna banks.
URL:https://uo.com/event/chesapeake-spooky-stories-the-final-stories/
CATEGORIES:EM Event
END:VEVENT
END:VCALENDAR