BEGIN:VCALENDAR
VERSION:2.0
PRODID:-//Ultima Online - ECPv5.16.4.1//NONSGML v1.0//EN
CALSCALE:GREGORIAN
METHOD:PUBLISH
X-WR-CALNAME:Ultima Online
X-ORIGINAL-URL:https://uo.com
X-WR-CALDESC:Events for Ultima Online
BEGIN:VTIMEZONE
TZID:America/Los_Angeles
BEGIN:DAYLIGHT
TZOFFSETFROM:-0800
TZOFFSETTO:-0700
TZNAME:PDT
DTSTART:20250309T100000
END:DAYLIGHT
BEGIN:STANDARD
TZOFFSETFROM:-0700
TZOFFSETTO:-0800
TZNAME:PST
DTSTART:20251102T090000
END:STANDARD
TZID:Europe/Berlin
BEGIN:DAYLIGHT
TZOFFSETFROM:+0100
TZOFFSETTO:+0200
TZNAME:CEST
DTSTART:20250330T010000
END:DAYLIGHT
BEGIN:STANDARD
TZOFFSETFROM:+0200
TZOFFSETTO:+0100
TZNAME:CET
DTSTART:20251026T010000
END:STANDARD
END:VTIMEZONE
BEGIN:VEVENT
DTSTART;TZID=America/Los_Angeles:20251023T190000
DTEND;TZID=America/Los_Angeles:20251023T200000
DTSTAMP:20260421T054100
CREATED:20251011T161526Z
LAST-MODIFIED:20251011T161526Z
UID:36006-1761246000-1761249600@uo.com
SUMMARY:*Pacific* - A Royal Entanglement
DESCRIPTION:
URL:https://uo.com/event/pacific-a-royal-entanglement/
LOCATION:Castle Blackthorn Courtyard
CATEGORIES:EM Event
END:VEVENT
BEGIN:VEVENT
DTSTART;TZID=Europe/Berlin:20251023T203000
DTEND;TZID=Europe/Berlin:20251023T213000
DTSTAMP:20260421T054100
CREATED:20251009T101708Z
LAST-MODIFIED:20251009T101708Z
UID:35993-1761251400-1761255000@uo.com
SUMMARY:Drachenfels: Pumpkin Party | Kürbis Party
DESCRIPTION:Time: 8:30pm CEST (UTC+2)\nEvent: Pumpkin Party (T-hunt\, Scalis\, games\, etc. – attending players may chose)\nLocation: EM Reward Museum\, Malas \n\nZeit: 20:30 Uhr CEST (UTC+2)\nEvent: Kürbis Party (Schatzjagd\, Scalis\, Spiele\, etc. – teilnehmende Spieler können wählen)\nOrt: EM Reward Museum\, Malas
URL:https://uo.com/event/drachenfels-pumpkin-party-kurbis-party/
LOCATION:Drachenfels
CATEGORIES:EM Event
END:VEVENT
END:VCALENDAR