BEGIN:VCALENDAR
VERSION:2.0
PRODID:-//Ultima Online - ECPv5.16.4.1//NONSGML v1.0//EN
CALSCALE:GREGORIAN
METHOD:PUBLISH
X-WR-CALNAME:Ultima Online
X-ORIGINAL-URL:https://uo.com
X-WR-CALDESC:Events for Ultima Online
BEGIN:VTIMEZONE
TZID:Europe/London
BEGIN:DAYLIGHT
TZOFFSETFROM:+0000
TZOFFSETTO:+0100
TZNAME:BST
DTSTART:20250330T010000
END:DAYLIGHT
BEGIN:STANDARD
TZOFFSETFROM:+0100
TZOFFSETTO:+0000
TZNAME:GMT
DTSTART:20251026T010000
END:STANDARD
TZID:Australia/Sydney
BEGIN:STANDARD
TZOFFSETFROM:+1100
TZOFFSETTO:+1000
TZNAME:AEST
DTSTART:20250405T160000
END:STANDARD
BEGIN:DAYLIGHT
TZOFFSETFROM:+1000
TZOFFSETTO:+1100
TZNAME:AEDT
DTSTART:20251004T160000
END:DAYLIGHT
TZID:Asia/Taipei
BEGIN:STANDARD
TZOFFSETFROM:+0800
TZOFFSETTO:+0800
TZNAME:CST
DTSTART:20250101T000000
END:STANDARD
END:VTIMEZONE
BEGIN:VEVENT
DTSTART;TZID=Europe/London:20251031T203000
DTEND;TZID=Europe/London:20251031T213000
DTSTAMP:20260421T054054
CREATED:20251017T184100Z
LAST-MODIFIED:20251017T184100Z
UID:36063-1761942600-1761946200@uo.com
SUMMARY:Europa - *PvP event* Fear Halloween: Last Man Standing
DESCRIPTION:You should be real scared! fight with your friends…but ONLY one will survive at the end…will you be the Last Man Standing? \nGather at EM Hall 8.30 PM UK time zone
URL:https://uo.com/event/europa-pvp-event-fear-halloween-last-man-standing/
CATEGORIES:EM Event
END:VEVENT
BEGIN:VEVENT
DTSTART;TZID=Australia/Sydney:20251031T205000
DTEND;TZID=Australia/Sydney:20251031T220000
DTSTAMP:20260421T054054
CREATED:20251018T101947Z
LAST-MODIFIED:20251018T101947Z
UID:36096-1761943800-1761948000@uo.com
SUMMARY:Oceania - Death by Pumpkin Skin
DESCRIPTION:Mysterious murders in the woods calls for closer investigation. \nHalloween event \nStarts 8:50PM Sydney time
URL:https://uo.com/event/oceania-death-by-pumpkin-skin/
CATEGORIES:EM Event
END:VEVENT
BEGIN:VEVENT
DTSTART;TZID=Asia/Taipei:20251031T210000
DTEND;TZID=Asia/Taipei:20251031T220000
DTSTAMP:20260421T054054
CREATED:20251018T094146Z
LAST-MODIFIED:20251018T094146Z
UID:36086-1761944400-1761948000@uo.com
SUMMARY:Formosa Battle Of Illshernar Dungeon Event
DESCRIPTION:Formosa Battle Of Illshernar Dungeon Event 31th Sept Friday at 9pm TW/10pm JPN at Britain EM Hall (Taipei Timezone)
URL:https://uo.com/event/formosa-battle-of-illshernar-dungeon-event/
LOCATION:Formosa Britain EM Hall
CATEGORIES:EM Event
END:VEVENT
BEGIN:VEVENT
DTSTART;TZID=Asia/Taipei:20251031T220000
DTEND;TZID=Asia/Taipei:20251031T230000
DTSTAMP:20260421T054054
CREATED:20251018T094253Z
LAST-MODIFIED:20251018T094253Z
UID:36088-1761948000-1761951600@uo.com
SUMMARY:Formosa The Seek For Cure Event
DESCRIPTION:Formosa The Seek For Cure Event at 31th Oct Friday at 10pm TW/11pm JPN at Britain EM Hall (Taipei timezone)
URL:https://uo.com/event/formosa-the-seek-for-cure-event/
LOCATION:Formosa Britain EM Hall
CATEGORIES:EM Event
END:VEVENT
END:VCALENDAR