BEGIN:VCALENDAR
VERSION:2.0
PRODID:-//Ultima Online - ECPv5.16.4.1//NONSGML v1.0//EN
CALSCALE:GREGORIAN
METHOD:PUBLISH
X-WR-CALNAME:Ultima Online
X-ORIGINAL-URL:https://uo.com
X-WR-CALDESC:Events for Ultima Online
BEGIN:VTIMEZONE
TZID:America/Los_Angeles
BEGIN:DAYLIGHT
TZOFFSETFROM:-0800
TZOFFSETTO:-0700
TZNAME:PDT
DTSTART:20150308T100000
END:DAYLIGHT
BEGIN:STANDARD
TZOFFSETFROM:-0700
TZOFFSETTO:-0800
TZNAME:PST
DTSTART:20151101T090000
END:STANDARD
END:VTIMEZONE
BEGIN:VEVENT
DTSTART;TZID=America/Los_Angeles:20150916T190000
DTEND;TZID=America/Los_Angeles:20150916T200000
DTSTAMP:20260423T211818
CREATED:20150911T185604Z
LAST-MODIFIED:20150911T185604Z
UID:3091-1442430000-1442433600@uo.com
SUMMARY:Sonoma - "A New Discovery"
DESCRIPTION:The King’s Royal Guard has discovered something strange at the scene of Luke’s final explosion.\nThe Guard is sent\, by request of the King himself\, to investigate.\nDanger level: Unknown
URL:https://uo.com/event/sonoma-a-new-discovery/
LOCATION:Sonoma
CATEGORIES:EM Event
END:VEVENT
END:VCALENDAR