BEGIN:VCALENDAR
VERSION:2.0
PRODID:-//Ultima Online - ECPv5.16.4.1//NONSGML v1.0//EN
CALSCALE:GREGORIAN
METHOD:PUBLISH
X-WR-CALNAME:Ultima Online
X-ORIGINAL-URL:https://uo.com
X-WR-CALDESC:Events for Ultima Online
BEGIN:VTIMEZONE
TZID:America/New_York
BEGIN:DAYLIGHT
TZOFFSETFROM:-0500
TZOFFSETTO:-0400
TZNAME:EDT
DTSTART:20150308T070000
END:DAYLIGHT
BEGIN:STANDARD
TZOFFSETFROM:-0400
TZOFFSETTO:-0500
TZNAME:EST
DTSTART:20151101T060000
END:STANDARD
TZID:Asia/Seoul
BEGIN:STANDARD
TZOFFSETFROM:+0900
TZOFFSETTO:+0900
TZNAME:KST
DTSTART:20150101T000000
END:STANDARD
TZID:Asia/Tokyo
BEGIN:STANDARD
TZOFFSETFROM:+0900
TZOFFSETTO:+0900
TZNAME:JST
DTSTART:20150101T000000
END:STANDARD
END:VTIMEZONE
BEGIN:VEVENT
DTSTART;TZID=America/New_York:20150919T160000
DTEND;TZID=America/New_York:20150919T170000
DTSTAMP:20260423T211115
CREATED:20150917T200528Z
LAST-MODIFIED:20150917T200528Z
UID:4228-1442678400-1442682000@uo.com
SUMMARY:Siege - King Calls An Emergency Meeting
DESCRIPTION:The King needs your help with something that was stolen. Meet him at his castle in Britain at 4pm EST .  There will be a gate to the castle at the EM Hall aswell. \n 
URL:https://uo.com/event/siege-king-calls-an-emergency-meeting/
LOCATION:Siege Perilous
CATEGORIES:EM Event
END:VEVENT
BEGIN:VEVENT
DTSTART;TZID=Asia/Seoul:20150919T200000
DTEND;TZID=Asia/Seoul:20150919T210000
DTSTAMP:20260423T211115
CREATED:20150910T045506Z
LAST-MODIFIED:20150910T045506Z
UID:3023-1442692800-1442696400@uo.com
SUMMARY:Arirang – Farmer and the Crows
DESCRIPTION:Farmers of Britannia are having problem with crow swarms. Help them to save our food for the realm so we could celebrate traditional holiday Chuseok\, Korean own thanksgiving day!\nEvent Details: http://www.ultimaonline.kr/370
URL:https://uo.com/event/arirang-farmer-and-the-crows-2/
LOCATION:Arirang
CATEGORIES:EM Event
END:VEVENT
BEGIN:VEVENT
DTSTART;TZID=Asia/Tokyo:20150919T210000
DTEND;TZID=Asia/Tokyo:20150919T214500
DTSTAMP:20260423T211115
CREATED:20150910T133403Z
LAST-MODIFIED:20150910T133403Z
UID:3028-1442696400-1442699100@uo.com
SUMMARY:Yamato - "The Time Gate" related RP Session
DESCRIPTION:King Blackthorn who suspected Anon to interfere Time Lord’s plan invites Queen Zhah to Castle Blackthorn to work out countermeasures with governors.
URL:https://uo.com/event/yamato-the-time-gate-related-rp-session/
LOCATION:Blackthorn Castle
CATEGORIES:EM Event
END:VEVENT
BEGIN:VEVENT
DTSTART;TZID=Asia/Tokyo:20150919T214500
DTEND;TZID=Asia/Tokyo:20150919T223000
DTSTAMP:20260423T211115
CREATED:20150910T144724Z
LAST-MODIFIED:20150910T144724Z
UID:3040-1442699100-1442701800@uo.com
SUMMARY:Sakura - “The Time Gate”related RP Session
DESCRIPTION:King Blackthorn who suspected Anon to interfere Time Lord’s plan invites Queen Zhah to Castle Blackthorn to work out countermeasures with governors.
URL:https://uo.com/event/sakura-the-time-gaterelated-rp-session/
LOCATION:Castle Blackthorn
CATEGORIES:EM Event
END:VEVENT
END:VCALENDAR