BEGIN:VCALENDAR
VERSION:2.0
PRODID:-//Ultima Online - ECPv5.16.4.1//NONSGML v1.0//EN
CALSCALE:GREGORIAN
METHOD:PUBLISH
X-WR-CALNAME:Ultima Online
X-ORIGINAL-URL:https://uo.com
X-WR-CALDESC:Events for Ultima Online
BEGIN:VTIMEZONE
TZID:Asia/Seoul
BEGIN:STANDARD
TZOFFSETFROM:+0900
TZOFFSETTO:+0900
TZNAME:KST
DTSTART:20150101T000000
END:STANDARD
TZID:America/Chicago
BEGIN:DAYLIGHT
TZOFFSETFROM:-0600
TZOFFSETTO:-0500
TZNAME:CDT
DTSTART:20150308T080000
END:DAYLIGHT
BEGIN:STANDARD
TZOFFSETFROM:-0500
TZOFFSETTO:-0600
TZNAME:CST
DTSTART:20151101T070000
END:STANDARD
END:VTIMEZONE
BEGIN:VEVENT
DTSTART;TZID=Asia/Seoul:20150922T200000
DTEND;TZID=Asia/Seoul:20150922T210000
DTSTAMP:20260423T211229
CREATED:20150910T053227Z
LAST-MODIFIED:20150910T053227Z
UID:3024-1442952000-1442955600@uo.com
SUMMARY:Arirang - The Time Gate
DESCRIPTION:As the heroes of Britannia gathered all of gems\, it is time to defeat our fatal enemy\, mistress Minax\, once and for all and reveal her fortress\, Shadowguard. Assist Hawkwind\, the Time Lord\, to open the time gate to lead us next chapter of history of Britannia.\nEvent Detail: http://www.ultimaonline.kr/373
URL:https://uo.com/event/arirang-the-time-gate/
LOCATION:Arirang
CATEGORIES:EM Event
END:VEVENT
BEGIN:VEVENT
DTSTART;TZID=America/Chicago:20150922T200000
DTEND;TZID=America/Chicago:20150922T213000
DTSTAMP:20260423T211229
CREATED:20150920T015012Z
LAST-MODIFIED:20150920T015012Z
UID:4665-1442952000-1442957400@uo.com
SUMMARY:Great Lakes - The Time Gate
DESCRIPTION:Meet at the Britain Counselor Hall for the Great Lakes version of this global event. Keep an eye on uo.com for the accompanying fiction.
URL:https://uo.com/event/great-lakes-the-time-gate/
LOCATION:Great Lakes
CATEGORIES:EM Event
END:VEVENT
END:VCALENDAR