BEGIN:VCALENDAR
VERSION:2.0
PRODID:-//Ultima Online - ECPv5.16.4.1//NONSGML v1.0//EN
CALSCALE:GREGORIAN
METHOD:PUBLISH
X-WR-CALNAME:Ultima Online
X-ORIGINAL-URL:https://uo.com
X-WR-CALDESC:Events for Ultima Online
BEGIN:VTIMEZONE
TZID:America/New_York
BEGIN:DAYLIGHT
TZOFFSETFROM:-0500
TZOFFSETTO:-0400
TZNAME:EDT
DTSTART:20150308T070000
END:DAYLIGHT
BEGIN:STANDARD
TZOFFSETFROM:-0400
TZOFFSETTO:-0500
TZNAME:EST
DTSTART:20151101T060000
END:STANDARD
TZID:Europe/Berlin
BEGIN:DAYLIGHT
TZOFFSETFROM:+0100
TZOFFSETTO:+0200
TZNAME:CEST
DTSTART:20150329T010000
END:DAYLIGHT
BEGIN:STANDARD
TZOFFSETFROM:+0200
TZOFFSETTO:+0100
TZNAME:CET
DTSTART:20151025T010000
END:STANDARD
TZID:Asia/Tokyo
BEGIN:STANDARD
TZOFFSETFROM:+0900
TZOFFSETTO:+0900
TZNAME:JST
DTSTART:20150101T000000
END:STANDARD
TZID:Asia/Seoul
BEGIN:STANDARD
TZOFFSETFROM:+0900
TZOFFSETTO:+0900
TZNAME:KST
DTSTART:20150101T000000
END:STANDARD
END:VTIMEZONE
BEGIN:VEVENT
DTSTART;TZID=America/New_York:20150927T190000
DTEND;TZID=America/New_York:20150927T190000
DTSTAMP:20260423T211218
CREATED:20150923T141225Z
LAST-MODIFIED:20150923T141225Z
UID:5101-1443380400-1443380400@uo.com
SUMMARY:Catskills - "The Time Gate"
DESCRIPTION:The final event in the current global arc. Be sure to read up on the fiction posted on the Ultima Online website. The starting point on Catskills is the Chamber of Virtues in Britain\, Trammel. For those unaware of its location\, a moongate will be provided from the EM Hall.
URL:https://uo.com/event/catskills-the-time-gate/
LOCATION:The Chamber of Virtues
CATEGORIES:EM Event
END:VEVENT
BEGIN:VEVENT
DTSTART;TZID=Europe/Berlin:20150927T203000
DTEND;TZID=Europe/Berlin:20150927T220000
DTSTAMP:20260423T211218
CREATED:20150911T074248Z
LAST-MODIFIED:20150912T055505Z
UID:3056-1443385800-1443391200@uo.com
SUMMARY:Drachenfels - Royal Audience | Königliche Audienz
DESCRIPTION:A Royal Audience will be held and the first official “House of Flunkeydom” (RP) event afterwards. | Eine Königliche Audienz wird abgehalten und das erste offizielle “Haus der Dienerschaft” (RP) Event danach stattfinden.
URL:https://uo.com/event/drachenfels-royal-audience-konigliche-audienz/
LOCATION:Drachenfels
CATEGORIES:EM Event
END:VEVENT
BEGIN:VEVENT
DTSTART;TZID=Asia/Tokyo:20150927T203000
DTEND;TZID=Asia/Tokyo:20150927T213000
DTSTAMP:20260423T211218
CREATED:20150920T141043Z
LAST-MODIFIED:20150920T141043Z
UID:4667-1443385800-1443389400@uo.com
SUMMARY:Sakura - The Time Gate
DESCRIPTION:
URL:https://uo.com/event/sakura-the-time-gate/
LOCATION:Castle Blackthorn
CATEGORIES:EM Event
END:VEVENT
BEGIN:VEVENT
DTSTART;TZID=Asia/Seoul:20150927T210000
DTEND;TZID=Asia/Seoul:20150927T230000
DTSTAMP:20260423T211218
CREATED:20150916T143525Z
LAST-MODIFIED:20150916T143557Z
UID:4030-1443387600-1443394800@uo.com
SUMMARY:Balhae The Battle Of The Fortress
DESCRIPTION:The Battle of the fortress event will be on Sep 27th Sunday at 9pm KOR & JPN \nMoongate will be open at Luna Bank
URL:https://uo.com/event/balhae-the-battle-of-the-fortress/
LOCATION:Balhae\, Korea\, Republic Of
CATEGORIES:EM Event
END:VEVENT
BEGIN:VEVENT
DTSTART;TZID=Asia/Tokyo:20150927T223000
DTEND;TZID=Asia/Tokyo:20150927T223000
DTSTAMP:20260423T211218
CREATED:20150910T135233Z
LAST-MODIFIED:20150920T141613Z
UID:3037-1443393000-1443393000@uo.com
SUMMARY:Yamato - The Time Gate
DESCRIPTION:More details will follow soon…
URL:https://uo.com/event/yamato-the-time-gate/
LOCATION:Castle Blackthorn
CATEGORIES:EM Event
END:VEVENT
END:VCALENDAR