BEGIN:VCALENDAR
VERSION:2.0
PRODID:-//Ultima Online - ECPv5.16.4.1//NONSGML v1.0//EN
CALSCALE:GREGORIAN
METHOD:PUBLISH
X-WR-CALNAME:Ultima Online
X-ORIGINAL-URL:https://uo.com
X-WR-CALDESC:Events for Ultima Online
BEGIN:VTIMEZONE
TZID:America/Los_Angeles
BEGIN:DAYLIGHT
TZOFFSETFROM:-0800
TZOFFSETTO:-0700
TZNAME:PDT
DTSTART:20150308T100000
END:DAYLIGHT
BEGIN:STANDARD
TZOFFSETFROM:-0700
TZOFFSETTO:-0800
TZNAME:PST
DTSTART:20151101T090000
END:STANDARD
TZID:Europe/Berlin
BEGIN:DAYLIGHT
TZOFFSETFROM:+0100
TZOFFSETTO:+0200
TZNAME:CEST
DTSTART:20150329T010000
END:DAYLIGHT
BEGIN:STANDARD
TZOFFSETFROM:+0200
TZOFFSETTO:+0100
TZNAME:CET
DTSTART:20151025T010000
END:STANDARD
TZID:Asia/Tokyo
BEGIN:STANDARD
TZOFFSETFROM:+0900
TZOFFSETTO:+0900
TZNAME:JST
DTSTART:20150101T000000
END:STANDARD
END:VTIMEZONE
BEGIN:VEVENT
DTSTART;TZID=America/Los_Angeles:20151004T180000
DTEND;TZID=America/Los_Angeles:20151004T190000
DTSTAMP:20260423T193258
CREATED:20150930T203840Z
LAST-MODIFIED:20150930T203946Z
UID:6148-1443981600-1443985200@uo.com
SUMMARY:Origin ~  Fireside Chat & Mini Monster Mash
DESCRIPTION:
URL:https://uo.com/event/origin-fireside-chat-mini-monster-mash/
LOCATION:Origin
CATEGORIES:EM Event
END:VEVENT
BEGIN:VEVENT
DTSTART;TZID=Europe/Berlin:20151004T203000
DTEND;TZID=Europe/Berlin:20151004T220000
DTSTAMP:20260423T193258
CREATED:20150928T114646Z
LAST-MODIFIED:20150928T114702Z
UID:5687-1443990600-1443996000@uo.com
SUMMARY:Drachenfels: Scavenger Hunt - Schnitzeljagd
DESCRIPTION:Scavenger Hunt – Know your VIPs | Schnitzeljagd – Kennt eure VIPs.\nTime: 8:30pm CEST | Zeit: 20:30 Uhr CEST.\nCounselor’s Hall\, Britain\, Trammel.
URL:https://uo.com/event/drachenfels-scavenger-hunt-know-your-vips/
LOCATION:Drachenfels
CATEGORIES:EM Event
END:VEVENT
BEGIN:VEVENT
DTSTART;TZID=Asia/Tokyo:20151004T220000
DTEND;TZID=Asia/Tokyo:20151004T220000
DTSTAMP:20260423T193258
CREATED:20151002T144933Z
LAST-MODIFIED:20151002T144933Z
UID:6412-1443996000-1443996000@uo.com
SUMMARY:Yamato - The Council Meeting with the King
DESCRIPTION:The King invites all Governors and Citizens to the Council Meeting. \n*Please note this meeting requires everyone is “in-character”\, and thus roleplay is expected of all who attend.
URL:https://uo.com/event/yamato-the-council-meeting-with-the-king/
LOCATION:Castle Blackthorn
CATEGORIES:EM Event
END:VEVENT
END:VCALENDAR