BEGIN:VCALENDAR
VERSION:2.0
PRODID:-//Ultima Online - ECPv5.16.4.1//NONSGML v1.0//EN
CALSCALE:GREGORIAN
METHOD:PUBLISH
X-WR-CALNAME:Ultima Online
X-ORIGINAL-URL:https://uo.com
X-WR-CALDESC:Events for Ultima Online
BEGIN:VTIMEZONE
TZID:America/New_York
BEGIN:DAYLIGHT
TZOFFSETFROM:-0500
TZOFFSETTO:-0400
TZNAME:EDT
DTSTART:20150308T070000
END:DAYLIGHT
BEGIN:STANDARD
TZOFFSETFROM:-0400
TZOFFSETTO:-0500
TZNAME:EST
DTSTART:20151101T060000
END:STANDARD
TZID:America/Los_Angeles
BEGIN:DAYLIGHT
TZOFFSETFROM:-0800
TZOFFSETTO:-0700
TZNAME:PDT
DTSTART:20150308T100000
END:DAYLIGHT
BEGIN:STANDARD
TZOFFSETFROM:-0700
TZOFFSETTO:-0800
TZNAME:PST
DTSTART:20151101T090000
END:STANDARD
TZID:Asia/Tokyo
BEGIN:STANDARD
TZOFFSETFROM:+0900
TZOFFSETTO:+0900
TZNAME:JST
DTSTART:20150101T000000
END:STANDARD
END:VTIMEZONE
BEGIN:VEVENT
DTSTART;TZID=America/New_York:20151010T150000
DTEND;TZID=America/New_York:20151010T150000
DTSTAMP:20260423T193348
CREATED:20151003T033106Z
LAST-MODIFIED:20151003T033310Z
UID:6494-1444489200-1444489200@uo.com
SUMMARY:Great Lakes - Our 501st Event
DESCRIPTION:In the kitchen with baby dragons! An afternoon gathering so we won’t disrupt their bedtime.
URL:https://uo.com/event/our-501st-event/
LOCATION:Great Lakes – Counselor Hall
CATEGORIES:EM Event
END:VEVENT
BEGIN:VEVENT
DTSTART;TZID=America/Los_Angeles:20151010T190000
DTEND;TZID=America/Los_Angeles:20151010T200000
DTSTAMP:20260423T193348
CREATED:20151007T032029Z
LAST-MODIFIED:20151007T032029Z
UID:6927-1444503600-1444507200@uo.com
SUMMARY:Sonoma - Governors Council
DESCRIPTION:The King calls the Governors and all interested citizens to this month’s meeting!
URL:https://uo.com/event/sonoma-governors-council/
LOCATION:Sonoma
CATEGORIES:EM Event
END:VEVENT
BEGIN:VEVENT
DTSTART;TZID=Asia/Tokyo:20151010T210000
DTEND;TZID=Asia/Tokyo:20151010T210000
DTSTAMP:20260423T193348
CREATED:20151002T164112Z
LAST-MODIFIED:20151002T164112Z
UID:6444-1444510800-1444510800@uo.com
SUMMARY:Yamato - The Ugly Paladin
DESCRIPTION:(A Parody of The Ugly Duckling) \nThe Husband and wife of Paladin family found a foundling and brought him up. He was a problem child though\, one day\, the mother told him to set off on his journey to learn more about chivalric way of thinking…
URL:https://uo.com/event/yamato-the-ugly-paladin/
LOCATION:Umbra Moongate
CATEGORIES:EM Event
END:VEVENT
BEGIN:VEVENT
DTSTART;TZID=Asia/Tokyo:20151010T220000
DTEND;TZID=Asia/Tokyo:20151010T220000
DTSTAMP:20260423T193348
CREATED:20151003T223131Z
LAST-MODIFIED:20151003T223131Z
UID:6586-1444514400-1444514400@uo.com
SUMMARY:Wakoku – The Council Meeting
DESCRIPTION:Location : Castle Blackthorn
URL:https://uo.com/event/wakoku-the-council-meeting/
LOCATION:Wakoku
CATEGORIES:EM Event
END:VEVENT
BEGIN:VEVENT
DTSTART;TZID=Asia/Tokyo:20151010T220000
DTEND;TZID=Asia/Tokyo:20151010T230000
DTSTAMP:20260423T193348
CREATED:20151004T101148Z
LAST-MODIFIED:20151004T101149Z
UID:6591-1444514400-1444518000@uo.com
SUMMARY:Asuka-The Council Meeting
DESCRIPTION:Location-Blackthorn Castle
URL:https://uo.com/event/asuka-the-council-meeting/
LOCATION:Castle Blackthorn
CATEGORIES:EM Event
END:VEVENT
END:VCALENDAR