BEGIN:VCALENDAR
VERSION:2.0
PRODID:-//Ultima Online - ECPv5.16.4.1//NONSGML v1.0//EN
CALSCALE:GREGORIAN
METHOD:PUBLISH
X-WR-CALNAME:Ultima Online
X-ORIGINAL-URL:https://uo.com
X-WR-CALDESC:Events for Ultima Online
BEGIN:VTIMEZONE
TZID:Asia/Seoul
BEGIN:STANDARD
TZOFFSETFROM:+0900
TZOFFSETTO:+0900
TZNAME:KST
DTSTART:20150101T000000
END:STANDARD
TZID:Asia/Tokyo
BEGIN:STANDARD
TZOFFSETFROM:+0900
TZOFFSETTO:+0900
TZNAME:JST
DTSTART:20150101T000000
END:STANDARD
END:VTIMEZONE
BEGIN:VEVENT
DTSTART;TZID=Asia/Seoul:20151017T200000
DTEND;TZID=Asia/Seoul:20151017T210000
DTSTAMP:20260423T193259
CREATED:20151001T100004Z
LAST-MODIFIED:20151001T100215Z
UID:6149-1445112000-1445115600@uo.com
SUMMARY:Arirang - Beacon of Protection
DESCRIPTION:Time Lord finally opened the Time Gate that make our heroes and Britannians to cross over to the new land\, but it is also means that our realm is vulnerable too. King Blackthorn wants brave adventurers again to find a way to secure our realm by defending beacon of protection. Castle Blackthorn\, Trammel\, 08:00PM KST (07:00AM EDT) *This is pre-announcement\, schedule could be changed so please see the announcement from http://www.ultimaonline.kr\, with countdown widget!*
URL:https://uo.com/event/arirang-beacon-of-protection/
LOCATION:Arirang
CATEGORIES:EM Event
END:VEVENT
BEGIN:VEVENT
DTSTART;TZID=Asia/Tokyo:20151017T220000
DTEND;TZID=Asia/Tokyo:20151017T220000
DTSTAMP:20260423T193259
CREATED:20151004T101450Z
LAST-MODIFIED:20151004T101450Z
UID:6592-1445119200-1445119200@uo.com
SUMMARY:Asuka-Void Pool Test Run
DESCRIPTION:TBD
URL:https://uo.com/event/asuka-void-pool-test-run/
LOCATION:Asuka
CATEGORIES:EM Event
END:VEVENT
END:VCALENDAR